BEGIN:VCALENDAR
VERSION:2.0
PRODID:-//Good News Dallas Church - ECPv6.15.20//NONSGML v1.0//EN
CALSCALE:GREGORIAN
METHOD:PUBLISH
X-ORIGINAL-URL:https://goodnewsdallas.org
X-WR-CALDESC:Events for Good News Dallas Church
REFRESH-INTERVAL;VALUE=DURATION:PT1H
X-Robots-Tag:noindex
X-PUBLISHED-TTL:PT1H
BEGIN:VTIMEZONE
TZID:America/Chicago
BEGIN:DAYLIGHT
TZOFFSETFROM:-0600
TZOFFSETTO:-0500
TZNAME:CDT
DTSTART:20270314T080000
END:DAYLIGHT
BEGIN:STANDARD
TZOFFSETFROM:-0500
TZOFFSETTO:-0600
TZNAME:CST
DTSTART:20271107T070000
END:STANDARD
BEGIN:DAYLIGHT
TZOFFSETFROM:-0600
TZOFFSETTO:-0500
TZNAME:CDT
DTSTART:20280312T080000
END:DAYLIGHT
BEGIN:STANDARD
TZOFFSETFROM:-0500
TZOFFSETTO:-0600
TZNAME:CST
DTSTART:20281105T070000
END:STANDARD
BEGIN:DAYLIGHT
TZOFFSETFROM:-0600
TZOFFSETTO:-0500
TZNAME:CDT
DTSTART:20290311T080000
END:DAYLIGHT
BEGIN:STANDARD
TZOFFSETFROM:-0500
TZOFFSETTO:-0600
TZNAME:CST
DTSTART:20291104T070000
END:STANDARD
END:VTIMEZONE
BEGIN:VEVENT
DTSTART;TZID=America/Chicago:20280331T190000
DTEND;TZID=America/Chicago:20280331T210000
DTSTAMP:20260421T104015
CREATED:20250308T134104Z
LAST-MODIFIED:20251013T231156Z
UID:10000683-1838142000-1838149200@goodnewsdallas.org
SUMMARY:Mind Education
DESCRIPTION:
URL:https://goodnewsdallas.org/event/mind-education/2028-03-31/
LOCATION:Good News Dallas Church\, 1149 N Plano Rd\, Garland\, Texas\, 75042\, United States
CATEGORIES:Weekly Service
END:VEVENT
BEGIN:VEVENT
DTSTART;TZID=America/Chicago:20280402T100000
DTEND;TZID=America/Chicago:20280402T130000
DTSTAMP:20260421T104015
CREATED:20250212T010015Z
LAST-MODIFIED:20250212T011240Z
UID:10000163-1838282400-1838293200@goodnewsdallas.org
SUMMARY:Sunday Service
DESCRIPTION:
URL:https://goodnewsdallas.org/event/sunday-service/2028-04-02/
LOCATION:Good News Dallas Church\, 1149 N Plano Rd\, Garland\, Texas\, 75042\, United States
CATEGORIES:Weekly Service
END:VEVENT
BEGIN:VEVENT
DTSTART;TZID=America/Chicago:20280405T193000
DTEND;TZID=America/Chicago:20280405T210000
DTSTAMP:20260421T104015
CREATED:20250212T011405Z
LAST-MODIFIED:20250212T011956Z
UID:10000425-1838575800-1838581200@goodnewsdallas.org
SUMMARY:Wednesday Service
DESCRIPTION:
URL:https://goodnewsdallas.org/event/wednesday-service/2028-04-05/
LOCATION:Good News Dallas Church\, 1149 N Plano Rd\, Garland\, Texas\, 75042\, United States
CATEGORIES:Weekly Service
END:VEVENT
BEGIN:VEVENT
DTSTART;TZID=America/Chicago:20280407T190000
DTEND;TZID=America/Chicago:20280407T210000
DTSTAMP:20260421T104015
CREATED:20250308T134104Z
LAST-MODIFIED:20251013T231156Z
UID:10000684-1838746800-1838754000@goodnewsdallas.org
SUMMARY:Mind Education
DESCRIPTION:
URL:https://goodnewsdallas.org/event/mind-education/2028-04-07/
LOCATION:Good News Dallas Church\, 1149 N Plano Rd\, Garland\, Texas\, 75042\, United States
CATEGORIES:Weekly Service
END:VEVENT
BEGIN:VEVENT
DTSTART;TZID=America/Chicago:20280409T100000
DTEND;TZID=America/Chicago:20280409T130000
DTSTAMP:20260421T104015
CREATED:20250212T010015Z
LAST-MODIFIED:20250212T011240Z
UID:10000164-1838887200-1838898000@goodnewsdallas.org
SUMMARY:Sunday Service
DESCRIPTION:
URL:https://goodnewsdallas.org/event/sunday-service/2028-04-09/
LOCATION:Good News Dallas Church\, 1149 N Plano Rd\, Garland\, Texas\, 75042\, United States
CATEGORIES:Weekly Service
END:VEVENT
BEGIN:VEVENT
DTSTART;TZID=America/Chicago:20280412T193000
DTEND;TZID=America/Chicago:20280412T210000
DTSTAMP:20260421T104015
CREATED:20250212T011405Z
LAST-MODIFIED:20250212T011956Z
UID:10000426-1839180600-1839186000@goodnewsdallas.org
SUMMARY:Wednesday Service
DESCRIPTION:
URL:https://goodnewsdallas.org/event/wednesday-service/2028-04-12/
LOCATION:Good News Dallas Church\, 1149 N Plano Rd\, Garland\, Texas\, 75042\, United States
CATEGORIES:Weekly Service
END:VEVENT
BEGIN:VEVENT
DTSTART;TZID=America/Chicago:20280414T190000
DTEND;TZID=America/Chicago:20280414T210000
DTSTAMP:20260421T104015
CREATED:20250308T134104Z
LAST-MODIFIED:20251013T231156Z
UID:10000685-1839351600-1839358800@goodnewsdallas.org
SUMMARY:Mind Education
DESCRIPTION:
URL:https://goodnewsdallas.org/event/mind-education/2028-04-14/
LOCATION:Good News Dallas Church\, 1149 N Plano Rd\, Garland\, Texas\, 75042\, United States
CATEGORIES:Weekly Service
END:VEVENT
BEGIN:VEVENT
DTSTART;TZID=America/Chicago:20280416T100000
DTEND;TZID=America/Chicago:20280416T130000
DTSTAMP:20260421T104015
CREATED:20250212T010015Z
LAST-MODIFIED:20250212T011240Z
UID:10000165-1839492000-1839502800@goodnewsdallas.org
SUMMARY:Sunday Service
DESCRIPTION:
URL:https://goodnewsdallas.org/event/sunday-service/2028-04-16/
LOCATION:Good News Dallas Church\, 1149 N Plano Rd\, Garland\, Texas\, 75042\, United States
CATEGORIES:Weekly Service
END:VEVENT
BEGIN:VEVENT
DTSTART;TZID=America/Chicago:20280419T193000
DTEND;TZID=America/Chicago:20280419T210000
DTSTAMP:20260421T104015
CREATED:20250212T011405Z
LAST-MODIFIED:20250212T011956Z
UID:10000427-1839785400-1839790800@goodnewsdallas.org
SUMMARY:Wednesday Service
DESCRIPTION:
URL:https://goodnewsdallas.org/event/wednesday-service/2028-04-19/
LOCATION:Good News Dallas Church\, 1149 N Plano Rd\, Garland\, Texas\, 75042\, United States
CATEGORIES:Weekly Service
END:VEVENT
BEGIN:VEVENT
DTSTART;TZID=America/Chicago:20280421T190000
DTEND;TZID=America/Chicago:20280421T210000
DTSTAMP:20260421T104015
CREATED:20250308T134104Z
LAST-MODIFIED:20251013T231156Z
UID:10000686-1839956400-1839963600@goodnewsdallas.org
SUMMARY:Mind Education
DESCRIPTION:
URL:https://goodnewsdallas.org/event/mind-education/2028-04-21/
LOCATION:Good News Dallas Church\, 1149 N Plano Rd\, Garland\, Texas\, 75042\, United States
CATEGORIES:Weekly Service
END:VEVENT
BEGIN:VEVENT
DTSTART;TZID=America/Chicago:20280423T100000
DTEND;TZID=America/Chicago:20280423T130000
DTSTAMP:20260421T104015
CREATED:20250212T010015Z
LAST-MODIFIED:20250212T011240Z
UID:10000166-1840096800-1840107600@goodnewsdallas.org
SUMMARY:Sunday Service
DESCRIPTION:
URL:https://goodnewsdallas.org/event/sunday-service/2028-04-23/
LOCATION:Good News Dallas Church\, 1149 N Plano Rd\, Garland\, Texas\, 75042\, United States
CATEGORIES:Weekly Service
END:VEVENT
BEGIN:VEVENT
DTSTART;TZID=America/Chicago:20280426T193000
DTEND;TZID=America/Chicago:20280426T210000
DTSTAMP:20260421T104015
CREATED:20250212T011405Z
LAST-MODIFIED:20250212T011956Z
UID:10000428-1840390200-1840395600@goodnewsdallas.org
SUMMARY:Wednesday Service
DESCRIPTION:
URL:https://goodnewsdallas.org/event/wednesday-service/2028-04-26/
LOCATION:Good News Dallas Church\, 1149 N Plano Rd\, Garland\, Texas\, 75042\, United States
CATEGORIES:Weekly Service
END:VEVENT
BEGIN:VEVENT
DTSTART;TZID=America/Chicago:20280428T190000
DTEND;TZID=America/Chicago:20280428T210000
DTSTAMP:20260421T104015
CREATED:20250308T134104Z
LAST-MODIFIED:20251013T231156Z
UID:10000687-1840561200-1840568400@goodnewsdallas.org
SUMMARY:Mind Education
DESCRIPTION:
URL:https://goodnewsdallas.org/event/mind-education/2028-04-28/
LOCATION:Good News Dallas Church\, 1149 N Plano Rd\, Garland\, Texas\, 75042\, United States
CATEGORIES:Weekly Service
END:VEVENT
BEGIN:VEVENT
DTSTART;TZID=America/Chicago:20280430T100000
DTEND;TZID=America/Chicago:20280430T130000
DTSTAMP:20260421T104015
CREATED:20250212T010015Z
LAST-MODIFIED:20250212T011240Z
UID:10000167-1840701600-1840712400@goodnewsdallas.org
SUMMARY:Sunday Service
DESCRIPTION:
URL:https://goodnewsdallas.org/event/sunday-service/2028-04-30/
LOCATION:Good News Dallas Church\, 1149 N Plano Rd\, Garland\, Texas\, 75042\, United States
CATEGORIES:Weekly Service
END:VEVENT
BEGIN:VEVENT
DTSTART;TZID=America/Chicago:20280503T193000
DTEND;TZID=America/Chicago:20280503T210000
DTSTAMP:20260421T104015
CREATED:20250212T011405Z
LAST-MODIFIED:20250212T011956Z
UID:10000429-1840995000-1841000400@goodnewsdallas.org
SUMMARY:Wednesday Service
DESCRIPTION:
URL:https://goodnewsdallas.org/event/wednesday-service/2028-05-03/
LOCATION:Good News Dallas Church\, 1149 N Plano Rd\, Garland\, Texas\, 75042\, United States
CATEGORIES:Weekly Service
END:VEVENT
BEGIN:VEVENT
DTSTART;TZID=America/Chicago:20280505T190000
DTEND;TZID=America/Chicago:20280505T210000
DTSTAMP:20260421T104015
CREATED:20250308T134104Z
LAST-MODIFIED:20251013T231156Z
UID:10000688-1841166000-1841173200@goodnewsdallas.org
SUMMARY:Mind Education
DESCRIPTION:
URL:https://goodnewsdallas.org/event/mind-education/2028-05-05/
LOCATION:Good News Dallas Church\, 1149 N Plano Rd\, Garland\, Texas\, 75042\, United States
CATEGORIES:Weekly Service
END:VEVENT
BEGIN:VEVENT
DTSTART;TZID=America/Chicago:20280507T100000
DTEND;TZID=America/Chicago:20280507T130000
DTSTAMP:20260421T104015
CREATED:20250212T010015Z
LAST-MODIFIED:20250212T011240Z
UID:10000168-1841306400-1841317200@goodnewsdallas.org
SUMMARY:Sunday Service
DESCRIPTION:
URL:https://goodnewsdallas.org/event/sunday-service/2028-05-07/
LOCATION:Good News Dallas Church\, 1149 N Plano Rd\, Garland\, Texas\, 75042\, United States
CATEGORIES:Weekly Service
END:VEVENT
BEGIN:VEVENT
DTSTART;TZID=America/Chicago:20280510T193000
DTEND;TZID=America/Chicago:20280510T210000
DTSTAMP:20260421T104015
CREATED:20250212T011405Z
LAST-MODIFIED:20250212T011956Z
UID:10000430-1841599800-1841605200@goodnewsdallas.org
SUMMARY:Wednesday Service
DESCRIPTION:
URL:https://goodnewsdallas.org/event/wednesday-service/2028-05-10/
LOCATION:Good News Dallas Church\, 1149 N Plano Rd\, Garland\, Texas\, 75042\, United States
CATEGORIES:Weekly Service
END:VEVENT
BEGIN:VEVENT
DTSTART;TZID=America/Chicago:20280512T190000
DTEND;TZID=America/Chicago:20280512T210000
DTSTAMP:20260421T104015
CREATED:20250308T134104Z
LAST-MODIFIED:20251013T231156Z
UID:10000689-1841770800-1841778000@goodnewsdallas.org
SUMMARY:Mind Education
DESCRIPTION:
URL:https://goodnewsdallas.org/event/mind-education/2028-05-12/
LOCATION:Good News Dallas Church\, 1149 N Plano Rd\, Garland\, Texas\, 75042\, United States
CATEGORIES:Weekly Service
END:VEVENT
BEGIN:VEVENT
DTSTART;TZID=America/Chicago:20280514T100000
DTEND;TZID=America/Chicago:20280514T130000
DTSTAMP:20260421T104015
CREATED:20250212T010015Z
LAST-MODIFIED:20250212T011240Z
UID:10000169-1841911200-1841922000@goodnewsdallas.org
SUMMARY:Sunday Service
DESCRIPTION:
URL:https://goodnewsdallas.org/event/sunday-service/2028-05-14/
LOCATION:Good News Dallas Church\, 1149 N Plano Rd\, Garland\, Texas\, 75042\, United States
CATEGORIES:Weekly Service
END:VEVENT
BEGIN:VEVENT
DTSTART;TZID=America/Chicago:20280517T193000
DTEND;TZID=America/Chicago:20280517T210000
DTSTAMP:20260421T104015
CREATED:20250212T011405Z
LAST-MODIFIED:20250212T011956Z
UID:10000431-1842204600-1842210000@goodnewsdallas.org
SUMMARY:Wednesday Service
DESCRIPTION:
URL:https://goodnewsdallas.org/event/wednesday-service/2028-05-17/
LOCATION:Good News Dallas Church\, 1149 N Plano Rd\, Garland\, Texas\, 75042\, United States
CATEGORIES:Weekly Service
END:VEVENT
BEGIN:VEVENT
DTSTART;TZID=America/Chicago:20280519T190000
DTEND;TZID=America/Chicago:20280519T210000
DTSTAMP:20260421T104015
CREATED:20250308T134104Z
LAST-MODIFIED:20251013T231156Z
UID:10000690-1842375600-1842382800@goodnewsdallas.org
SUMMARY:Mind Education
DESCRIPTION:
URL:https://goodnewsdallas.org/event/mind-education/2028-05-19/
LOCATION:Good News Dallas Church\, 1149 N Plano Rd\, Garland\, Texas\, 75042\, United States
CATEGORIES:Weekly Service
END:VEVENT
BEGIN:VEVENT
DTSTART;TZID=America/Chicago:20280521T100000
DTEND;TZID=America/Chicago:20280521T130000
DTSTAMP:20260421T104015
CREATED:20250212T010015Z
LAST-MODIFIED:20250212T011240Z
UID:10000170-1842516000-1842526800@goodnewsdallas.org
SUMMARY:Sunday Service
DESCRIPTION:
URL:https://goodnewsdallas.org/event/sunday-service/2028-05-21/
LOCATION:Good News Dallas Church\, 1149 N Plano Rd\, Garland\, Texas\, 75042\, United States
CATEGORIES:Weekly Service
END:VEVENT
BEGIN:VEVENT
DTSTART;TZID=America/Chicago:20280524T193000
DTEND;TZID=America/Chicago:20280524T210000
DTSTAMP:20260421T104015
CREATED:20250212T011405Z
LAST-MODIFIED:20250212T011956Z
UID:10000432-1842809400-1842814800@goodnewsdallas.org
SUMMARY:Wednesday Service
DESCRIPTION:
URL:https://goodnewsdallas.org/event/wednesday-service/2028-05-24/
LOCATION:Good News Dallas Church\, 1149 N Plano Rd\, Garland\, Texas\, 75042\, United States
CATEGORIES:Weekly Service
END:VEVENT
BEGIN:VEVENT
DTSTART;TZID=America/Chicago:20280526T190000
DTEND;TZID=America/Chicago:20280526T210000
DTSTAMP:20260421T104015
CREATED:20250308T134104Z
LAST-MODIFIED:20251013T231156Z
UID:10000691-1842980400-1842987600@goodnewsdallas.org
SUMMARY:Mind Education
DESCRIPTION:
URL:https://goodnewsdallas.org/event/mind-education/2028-05-26/
LOCATION:Good News Dallas Church\, 1149 N Plano Rd\, Garland\, Texas\, 75042\, United States
CATEGORIES:Weekly Service
END:VEVENT
BEGIN:VEVENT
DTSTART;TZID=America/Chicago:20280528T100000
DTEND;TZID=America/Chicago:20280528T130000
DTSTAMP:20260421T104015
CREATED:20250212T010015Z
LAST-MODIFIED:20250212T011240Z
UID:10000171-1843120800-1843131600@goodnewsdallas.org
SUMMARY:Sunday Service
DESCRIPTION:
URL:https://goodnewsdallas.org/event/sunday-service/2028-05-28/
LOCATION:Good News Dallas Church\, 1149 N Plano Rd\, Garland\, Texas\, 75042\, United States
CATEGORIES:Weekly Service
END:VEVENT
BEGIN:VEVENT
DTSTART;TZID=America/Chicago:20280531T193000
DTEND;TZID=America/Chicago:20280531T210000
DTSTAMP:20260421T104015
CREATED:20250212T011405Z
LAST-MODIFIED:20250212T011956Z
UID:10000433-1843414200-1843419600@goodnewsdallas.org
SUMMARY:Wednesday Service
DESCRIPTION:
URL:https://goodnewsdallas.org/event/wednesday-service/2028-05-31/
LOCATION:Good News Dallas Church\, 1149 N Plano Rd\, Garland\, Texas\, 75042\, United States
CATEGORIES:Weekly Service
END:VEVENT
BEGIN:VEVENT
DTSTART;TZID=America/Chicago:20280602T190000
DTEND;TZID=America/Chicago:20280602T210000
DTSTAMP:20260421T104015
CREATED:20250308T134104Z
LAST-MODIFIED:20251013T231156Z
UID:10000692-1843585200-1843592400@goodnewsdallas.org
SUMMARY:Mind Education
DESCRIPTION:
URL:https://goodnewsdallas.org/event/mind-education/2028-06-02/
LOCATION:Good News Dallas Church\, 1149 N Plano Rd\, Garland\, Texas\, 75042\, United States
CATEGORIES:Weekly Service
END:VEVENT
BEGIN:VEVENT
DTSTART;TZID=America/Chicago:20280604T100000
DTEND;TZID=America/Chicago:20280604T130000
DTSTAMP:20260421T104015
CREATED:20250212T010015Z
LAST-MODIFIED:20250212T011240Z
UID:10000172-1843725600-1843736400@goodnewsdallas.org
SUMMARY:Sunday Service
DESCRIPTION:
URL:https://goodnewsdallas.org/event/sunday-service/2028-06-04/
LOCATION:Good News Dallas Church\, 1149 N Plano Rd\, Garland\, Texas\, 75042\, United States
CATEGORIES:Weekly Service
END:VEVENT
BEGIN:VEVENT
DTSTART;TZID=America/Chicago:20280607T193000
DTEND;TZID=America/Chicago:20280607T210000
DTSTAMP:20260421T104015
CREATED:20250212T011405Z
LAST-MODIFIED:20250212T011956Z
UID:10000434-1844019000-1844024400@goodnewsdallas.org
SUMMARY:Wednesday Service
DESCRIPTION:
URL:https://goodnewsdallas.org/event/wednesday-service/2028-06-07/
LOCATION:Good News Dallas Church\, 1149 N Plano Rd\, Garland\, Texas\, 75042\, United States
CATEGORIES:Weekly Service
END:VEVENT
END:VCALENDAR