BEGIN:VCALENDAR
VERSION:2.0
PRODID:-//Good News Dallas Church - ECPv6.15.20//NONSGML v1.0//EN
CALSCALE:GREGORIAN
METHOD:PUBLISH
X-ORIGINAL-URL:https://goodnewsdallas.org
X-WR-CALDESC:Events for Good News Dallas Church
REFRESH-INTERVAL;VALUE=DURATION:PT1H
X-Robots-Tag:noindex
X-PUBLISHED-TTL:PT1H
BEGIN:VTIMEZONE
TZID:America/Chicago
BEGIN:DAYLIGHT
TZOFFSETFROM:-0600
TZOFFSETTO:-0500
TZNAME:CDT
DTSTART:20270314T080000
END:DAYLIGHT
BEGIN:STANDARD
TZOFFSETFROM:-0500
TZOFFSETTO:-0600
TZNAME:CST
DTSTART:20271107T070000
END:STANDARD
BEGIN:DAYLIGHT
TZOFFSETFROM:-0600
TZOFFSETTO:-0500
TZNAME:CDT
DTSTART:20280312T080000
END:DAYLIGHT
BEGIN:STANDARD
TZOFFSETFROM:-0500
TZOFFSETTO:-0600
TZNAME:CST
DTSTART:20281105T070000
END:STANDARD
BEGIN:DAYLIGHT
TZOFFSETFROM:-0600
TZOFFSETTO:-0500
TZNAME:CDT
DTSTART:20290311T080000
END:DAYLIGHT
BEGIN:STANDARD
TZOFFSETFROM:-0500
TZOFFSETTO:-0600
TZNAME:CST
DTSTART:20291104T070000
END:STANDARD
END:VTIMEZONE
BEGIN:VEVENT
DTSTART;TZID=America/Chicago:20280623T190000
DTEND;TZID=America/Chicago:20280623T210000
DTSTAMP:20260421T152413
CREATED:20250308T134104Z
LAST-MODIFIED:20251013T231156Z
UID:10000695-1845399600-1845406800@goodnewsdallas.org
SUMMARY:Mind Education
DESCRIPTION:
URL:https://goodnewsdallas.org/event/mind-education/2028-06-23/
LOCATION:Good News Dallas Church\, 1149 N Plano Rd\, Garland\, Texas\, 75042\, United States
CATEGORIES:Weekly Service
END:VEVENT
BEGIN:VEVENT
DTSTART;TZID=America/Chicago:20280625T100000
DTEND;TZID=America/Chicago:20280625T130000
DTSTAMP:20260421T152413
CREATED:20250212T010015Z
LAST-MODIFIED:20250212T011240Z
UID:10000175-1845540000-1845550800@goodnewsdallas.org
SUMMARY:Sunday Service
DESCRIPTION:
URL:https://goodnewsdallas.org/event/sunday-service/2028-06-25/
LOCATION:Good News Dallas Church\, 1149 N Plano Rd\, Garland\, Texas\, 75042\, United States
CATEGORIES:Weekly Service
END:VEVENT
BEGIN:VEVENT
DTSTART;TZID=America/Chicago:20280628T193000
DTEND;TZID=America/Chicago:20280628T210000
DTSTAMP:20260421T152413
CREATED:20250212T011405Z
LAST-MODIFIED:20250212T011956Z
UID:10000437-1845833400-1845838800@goodnewsdallas.org
SUMMARY:Wednesday Service
DESCRIPTION:
URL:https://goodnewsdallas.org/event/wednesday-service/2028-06-28/
LOCATION:Good News Dallas Church\, 1149 N Plano Rd\, Garland\, Texas\, 75042\, United States
CATEGORIES:Weekly Service
END:VEVENT
BEGIN:VEVENT
DTSTART;TZID=America/Chicago:20280630T190000
DTEND;TZID=America/Chicago:20280630T210000
DTSTAMP:20260421T152413
CREATED:20250308T134104Z
LAST-MODIFIED:20251013T231156Z
UID:10000696-1846004400-1846011600@goodnewsdallas.org
SUMMARY:Mind Education
DESCRIPTION:
URL:https://goodnewsdallas.org/event/mind-education/2028-06-30/
LOCATION:Good News Dallas Church\, 1149 N Plano Rd\, Garland\, Texas\, 75042\, United States
CATEGORIES:Weekly Service
END:VEVENT
BEGIN:VEVENT
DTSTART;TZID=America/Chicago:20280702T100000
DTEND;TZID=America/Chicago:20280702T130000
DTSTAMP:20260421T152413
CREATED:20250212T010015Z
LAST-MODIFIED:20250212T011240Z
UID:10000176-1846144800-1846155600@goodnewsdallas.org
SUMMARY:Sunday Service
DESCRIPTION:
URL:https://goodnewsdallas.org/event/sunday-service/2028-07-02/
LOCATION:Good News Dallas Church\, 1149 N Plano Rd\, Garland\, Texas\, 75042\, United States
CATEGORIES:Weekly Service
END:VEVENT
BEGIN:VEVENT
DTSTART;TZID=America/Chicago:20280705T193000
DTEND;TZID=America/Chicago:20280705T210000
DTSTAMP:20260421T152413
CREATED:20250212T011405Z
LAST-MODIFIED:20250212T011956Z
UID:10000438-1846438200-1846443600@goodnewsdallas.org
SUMMARY:Wednesday Service
DESCRIPTION:
URL:https://goodnewsdallas.org/event/wednesday-service/2028-07-05/
LOCATION:Good News Dallas Church\, 1149 N Plano Rd\, Garland\, Texas\, 75042\, United States
CATEGORIES:Weekly Service
END:VEVENT
BEGIN:VEVENT
DTSTART;TZID=America/Chicago:20280707T190000
DTEND;TZID=America/Chicago:20280707T210000
DTSTAMP:20260421T152413
CREATED:20250308T134104Z
LAST-MODIFIED:20251013T231156Z
UID:10000697-1846609200-1846616400@goodnewsdallas.org
SUMMARY:Mind Education
DESCRIPTION:
URL:https://goodnewsdallas.org/event/mind-education/2028-07-07/
LOCATION:Good News Dallas Church\, 1149 N Plano Rd\, Garland\, Texas\, 75042\, United States
CATEGORIES:Weekly Service
END:VEVENT
BEGIN:VEVENT
DTSTART;TZID=America/Chicago:20280709T100000
DTEND;TZID=America/Chicago:20280709T130000
DTSTAMP:20260421T152413
CREATED:20250212T010015Z
LAST-MODIFIED:20250212T011240Z
UID:10000177-1846749600-1846760400@goodnewsdallas.org
SUMMARY:Sunday Service
DESCRIPTION:
URL:https://goodnewsdallas.org/event/sunday-service/2028-07-09/
LOCATION:Good News Dallas Church\, 1149 N Plano Rd\, Garland\, Texas\, 75042\, United States
CATEGORIES:Weekly Service
END:VEVENT
BEGIN:VEVENT
DTSTART;TZID=America/Chicago:20280712T193000
DTEND;TZID=America/Chicago:20280712T210000
DTSTAMP:20260421T152413
CREATED:20250212T011405Z
LAST-MODIFIED:20250212T011956Z
UID:10000439-1847043000-1847048400@goodnewsdallas.org
SUMMARY:Wednesday Service
DESCRIPTION:
URL:https://goodnewsdallas.org/event/wednesday-service/2028-07-12/
LOCATION:Good News Dallas Church\, 1149 N Plano Rd\, Garland\, Texas\, 75042\, United States
CATEGORIES:Weekly Service
END:VEVENT
BEGIN:VEVENT
DTSTART;TZID=America/Chicago:20280714T190000
DTEND;TZID=America/Chicago:20280714T210000
DTSTAMP:20260421T152413
CREATED:20250308T134104Z
LAST-MODIFIED:20251013T231156Z
UID:10000698-1847214000-1847221200@goodnewsdallas.org
SUMMARY:Mind Education
DESCRIPTION:
URL:https://goodnewsdallas.org/event/mind-education/2028-07-14/
LOCATION:Good News Dallas Church\, 1149 N Plano Rd\, Garland\, Texas\, 75042\, United States
CATEGORIES:Weekly Service
END:VEVENT
BEGIN:VEVENT
DTSTART;TZID=America/Chicago:20280716T100000
DTEND;TZID=America/Chicago:20280716T130000
DTSTAMP:20260421T152413
CREATED:20250212T010015Z
LAST-MODIFIED:20250212T011240Z
UID:10000178-1847354400-1847365200@goodnewsdallas.org
SUMMARY:Sunday Service
DESCRIPTION:
URL:https://goodnewsdallas.org/event/sunday-service/2028-07-16/
LOCATION:Good News Dallas Church\, 1149 N Plano Rd\, Garland\, Texas\, 75042\, United States
CATEGORIES:Weekly Service
END:VEVENT
BEGIN:VEVENT
DTSTART;TZID=America/Chicago:20280719T193000
DTEND;TZID=America/Chicago:20280719T210000
DTSTAMP:20260421T152413
CREATED:20250212T011405Z
LAST-MODIFIED:20250212T011956Z
UID:10000440-1847647800-1847653200@goodnewsdallas.org
SUMMARY:Wednesday Service
DESCRIPTION:
URL:https://goodnewsdallas.org/event/wednesday-service/2028-07-19/
LOCATION:Good News Dallas Church\, 1149 N Plano Rd\, Garland\, Texas\, 75042\, United States
CATEGORIES:Weekly Service
END:VEVENT
BEGIN:VEVENT
DTSTART;TZID=America/Chicago:20280721T190000
DTEND;TZID=America/Chicago:20280721T210000
DTSTAMP:20260421T152413
CREATED:20250308T134104Z
LAST-MODIFIED:20251013T231156Z
UID:10000699-1847818800-1847826000@goodnewsdallas.org
SUMMARY:Mind Education
DESCRIPTION:
URL:https://goodnewsdallas.org/event/mind-education/2028-07-21/
LOCATION:Good News Dallas Church\, 1149 N Plano Rd\, Garland\, Texas\, 75042\, United States
CATEGORIES:Weekly Service
END:VEVENT
BEGIN:VEVENT
DTSTART;TZID=America/Chicago:20280723T100000
DTEND;TZID=America/Chicago:20280723T130000
DTSTAMP:20260421T152413
CREATED:20250212T010015Z
LAST-MODIFIED:20250212T011240Z
UID:10000179-1847959200-1847970000@goodnewsdallas.org
SUMMARY:Sunday Service
DESCRIPTION:
URL:https://goodnewsdallas.org/event/sunday-service/2028-07-23/
LOCATION:Good News Dallas Church\, 1149 N Plano Rd\, Garland\, Texas\, 75042\, United States
CATEGORIES:Weekly Service
END:VEVENT
BEGIN:VEVENT
DTSTART;TZID=America/Chicago:20280726T193000
DTEND;TZID=America/Chicago:20280726T210000
DTSTAMP:20260421T152413
CREATED:20250212T011405Z
LAST-MODIFIED:20250212T011956Z
UID:10000441-1848252600-1848258000@goodnewsdallas.org
SUMMARY:Wednesday Service
DESCRIPTION:
URL:https://goodnewsdallas.org/event/wednesday-service/2028-07-26/
LOCATION:Good News Dallas Church\, 1149 N Plano Rd\, Garland\, Texas\, 75042\, United States
CATEGORIES:Weekly Service
END:VEVENT
BEGIN:VEVENT
DTSTART;TZID=America/Chicago:20280728T190000
DTEND;TZID=America/Chicago:20280728T210000
DTSTAMP:20260421T152413
CREATED:20250308T134104Z
LAST-MODIFIED:20251013T231156Z
UID:10000700-1848423600-1848430800@goodnewsdallas.org
SUMMARY:Mind Education
DESCRIPTION:
URL:https://goodnewsdallas.org/event/mind-education/2028-07-28/
LOCATION:Good News Dallas Church\, 1149 N Plano Rd\, Garland\, Texas\, 75042\, United States
CATEGORIES:Weekly Service
END:VEVENT
BEGIN:VEVENT
DTSTART;TZID=America/Chicago:20280730T100000
DTEND;TZID=America/Chicago:20280730T130000
DTSTAMP:20260421T152413
CREATED:20250212T010015Z
LAST-MODIFIED:20250212T011240Z
UID:10000180-1848564000-1848574800@goodnewsdallas.org
SUMMARY:Sunday Service
DESCRIPTION:
URL:https://goodnewsdallas.org/event/sunday-service/2028-07-30/
LOCATION:Good News Dallas Church\, 1149 N Plano Rd\, Garland\, Texas\, 75042\, United States
CATEGORIES:Weekly Service
END:VEVENT
BEGIN:VEVENT
DTSTART;TZID=America/Chicago:20280802T193000
DTEND;TZID=America/Chicago:20280802T210000
DTSTAMP:20260421T152413
CREATED:20250212T011405Z
LAST-MODIFIED:20250212T011956Z
UID:10000442-1848857400-1848862800@goodnewsdallas.org
SUMMARY:Wednesday Service
DESCRIPTION:
URL:https://goodnewsdallas.org/event/wednesday-service/2028-08-02/
LOCATION:Good News Dallas Church\, 1149 N Plano Rd\, Garland\, Texas\, 75042\, United States
CATEGORIES:Weekly Service
END:VEVENT
BEGIN:VEVENT
DTSTART;TZID=America/Chicago:20280804T190000
DTEND;TZID=America/Chicago:20280804T210000
DTSTAMP:20260421T152413
CREATED:20250308T134104Z
LAST-MODIFIED:20251013T231156Z
UID:10000701-1849028400-1849035600@goodnewsdallas.org
SUMMARY:Mind Education
DESCRIPTION:
URL:https://goodnewsdallas.org/event/mind-education/2028-08-04/
LOCATION:Good News Dallas Church\, 1149 N Plano Rd\, Garland\, Texas\, 75042\, United States
CATEGORIES:Weekly Service
END:VEVENT
BEGIN:VEVENT
DTSTART;TZID=America/Chicago:20280806T100000
DTEND;TZID=America/Chicago:20280806T130000
DTSTAMP:20260421T152413
CREATED:20250212T010015Z
LAST-MODIFIED:20250212T011240Z
UID:10000181-1849168800-1849179600@goodnewsdallas.org
SUMMARY:Sunday Service
DESCRIPTION:
URL:https://goodnewsdallas.org/event/sunday-service/2028-08-06/
LOCATION:Good News Dallas Church\, 1149 N Plano Rd\, Garland\, Texas\, 75042\, United States
CATEGORIES:Weekly Service
END:VEVENT
BEGIN:VEVENT
DTSTART;TZID=America/Chicago:20280809T193000
DTEND;TZID=America/Chicago:20280809T210000
DTSTAMP:20260421T152413
CREATED:20250212T011405Z
LAST-MODIFIED:20250212T011956Z
UID:10000443-1849462200-1849467600@goodnewsdallas.org
SUMMARY:Wednesday Service
DESCRIPTION:
URL:https://goodnewsdallas.org/event/wednesday-service/2028-08-09/
LOCATION:Good News Dallas Church\, 1149 N Plano Rd\, Garland\, Texas\, 75042\, United States
CATEGORIES:Weekly Service
END:VEVENT
BEGIN:VEVENT
DTSTART;TZID=America/Chicago:20280811T190000
DTEND;TZID=America/Chicago:20280811T210000
DTSTAMP:20260421T152413
CREATED:20250308T134104Z
LAST-MODIFIED:20251013T231156Z
UID:10000702-1849633200-1849640400@goodnewsdallas.org
SUMMARY:Mind Education
DESCRIPTION:
URL:https://goodnewsdallas.org/event/mind-education/2028-08-11/
LOCATION:Good News Dallas Church\, 1149 N Plano Rd\, Garland\, Texas\, 75042\, United States
CATEGORIES:Weekly Service
END:VEVENT
BEGIN:VEVENT
DTSTART;TZID=America/Chicago:20280813T100000
DTEND;TZID=America/Chicago:20280813T130000
DTSTAMP:20260421T152413
CREATED:20250212T010015Z
LAST-MODIFIED:20250212T011240Z
UID:10000182-1849773600-1849784400@goodnewsdallas.org
SUMMARY:Sunday Service
DESCRIPTION:
URL:https://goodnewsdallas.org/event/sunday-service/2028-08-13/
LOCATION:Good News Dallas Church\, 1149 N Plano Rd\, Garland\, Texas\, 75042\, United States
CATEGORIES:Weekly Service
END:VEVENT
BEGIN:VEVENT
DTSTART;TZID=America/Chicago:20280816T193000
DTEND;TZID=America/Chicago:20280816T210000
DTSTAMP:20260421T152413
CREATED:20250212T011405Z
LAST-MODIFIED:20250212T011956Z
UID:10000444-1850067000-1850072400@goodnewsdallas.org
SUMMARY:Wednesday Service
DESCRIPTION:
URL:https://goodnewsdallas.org/event/wednesday-service/2028-08-16/
LOCATION:Good News Dallas Church\, 1149 N Plano Rd\, Garland\, Texas\, 75042\, United States
CATEGORIES:Weekly Service
END:VEVENT
BEGIN:VEVENT
DTSTART;TZID=America/Chicago:20280818T190000
DTEND;TZID=America/Chicago:20280818T210000
DTSTAMP:20260421T152413
CREATED:20250308T134104Z
LAST-MODIFIED:20251013T231156Z
UID:10000703-1850238000-1850245200@goodnewsdallas.org
SUMMARY:Mind Education
DESCRIPTION:
URL:https://goodnewsdallas.org/event/mind-education/2028-08-18/
LOCATION:Good News Dallas Church\, 1149 N Plano Rd\, Garland\, Texas\, 75042\, United States
CATEGORIES:Weekly Service
END:VEVENT
BEGIN:VEVENT
DTSTART;TZID=America/Chicago:20280820T100000
DTEND;TZID=America/Chicago:20280820T130000
DTSTAMP:20260421T152413
CREATED:20250212T010015Z
LAST-MODIFIED:20250212T011240Z
UID:10000183-1850378400-1850389200@goodnewsdallas.org
SUMMARY:Sunday Service
DESCRIPTION:
URL:https://goodnewsdallas.org/event/sunday-service/2028-08-20/
LOCATION:Good News Dallas Church\, 1149 N Plano Rd\, Garland\, Texas\, 75042\, United States
CATEGORIES:Weekly Service
END:VEVENT
BEGIN:VEVENT
DTSTART;TZID=America/Chicago:20280823T193000
DTEND;TZID=America/Chicago:20280823T210000
DTSTAMP:20260421T152413
CREATED:20250212T011405Z
LAST-MODIFIED:20250212T011956Z
UID:10000445-1850671800-1850677200@goodnewsdallas.org
SUMMARY:Wednesday Service
DESCRIPTION:
URL:https://goodnewsdallas.org/event/wednesday-service/2028-08-23/
LOCATION:Good News Dallas Church\, 1149 N Plano Rd\, Garland\, Texas\, 75042\, United States
CATEGORIES:Weekly Service
END:VEVENT
BEGIN:VEVENT
DTSTART;TZID=America/Chicago:20280825T190000
DTEND;TZID=America/Chicago:20280825T210000
DTSTAMP:20260421T152413
CREATED:20250308T134104Z
LAST-MODIFIED:20251013T231156Z
UID:10000704-1850842800-1850850000@goodnewsdallas.org
SUMMARY:Mind Education
DESCRIPTION:
URL:https://goodnewsdallas.org/event/mind-education/2028-08-25/
LOCATION:Good News Dallas Church\, 1149 N Plano Rd\, Garland\, Texas\, 75042\, United States
CATEGORIES:Weekly Service
END:VEVENT
BEGIN:VEVENT
DTSTART;TZID=America/Chicago:20280827T100000
DTEND;TZID=America/Chicago:20280827T130000
DTSTAMP:20260421T152413
CREATED:20250212T010015Z
LAST-MODIFIED:20250212T011240Z
UID:10000184-1850983200-1850994000@goodnewsdallas.org
SUMMARY:Sunday Service
DESCRIPTION:
URL:https://goodnewsdallas.org/event/sunday-service/2028-08-27/
LOCATION:Good News Dallas Church\, 1149 N Plano Rd\, Garland\, Texas\, 75042\, United States
CATEGORIES:Weekly Service
END:VEVENT
BEGIN:VEVENT
DTSTART;TZID=America/Chicago:20280830T193000
DTEND;TZID=America/Chicago:20280830T210000
DTSTAMP:20260421T152413
CREATED:20250212T011405Z
LAST-MODIFIED:20250212T011956Z
UID:10000446-1851276600-1851282000@goodnewsdallas.org
SUMMARY:Wednesday Service
DESCRIPTION:
URL:https://goodnewsdallas.org/event/wednesday-service/2028-08-30/
LOCATION:Good News Dallas Church\, 1149 N Plano Rd\, Garland\, Texas\, 75042\, United States
CATEGORIES:Weekly Service
END:VEVENT
END:VCALENDAR