BEGIN:VCALENDAR
VERSION:2.0
PRODID:-//Good News Dallas Church - ECPv6.15.20//NONSGML v1.0//EN
CALSCALE:GREGORIAN
METHOD:PUBLISH
X-ORIGINAL-URL:https://goodnewsdallas.org
X-WR-CALDESC:Events for Good News Dallas Church
REFRESH-INTERVAL;VALUE=DURATION:PT1H
X-Robots-Tag:noindex
X-PUBLISHED-TTL:PT1H
BEGIN:VTIMEZONE
TZID:America/Chicago
BEGIN:DAYLIGHT
TZOFFSETFROM:-0600
TZOFFSETTO:-0500
TZNAME:CDT
DTSTART:20270314T080000
END:DAYLIGHT
BEGIN:STANDARD
TZOFFSETFROM:-0500
TZOFFSETTO:-0600
TZNAME:CST
DTSTART:20271107T070000
END:STANDARD
BEGIN:DAYLIGHT
TZOFFSETFROM:-0600
TZOFFSETTO:-0500
TZNAME:CDT
DTSTART:20280312T080000
END:DAYLIGHT
BEGIN:STANDARD
TZOFFSETFROM:-0500
TZOFFSETTO:-0600
TZNAME:CST
DTSTART:20281105T070000
END:STANDARD
BEGIN:DAYLIGHT
TZOFFSETFROM:-0600
TZOFFSETTO:-0500
TZNAME:CDT
DTSTART:20290311T080000
END:DAYLIGHT
BEGIN:STANDARD
TZOFFSETFROM:-0500
TZOFFSETTO:-0600
TZNAME:CST
DTSTART:20291104T070000
END:STANDARD
BEGIN:DAYLIGHT
TZOFFSETFROM:-0600
TZOFFSETTO:-0500
TZNAME:CDT
DTSTART:20300310T080000
END:DAYLIGHT
BEGIN:STANDARD
TZOFFSETFROM:-0500
TZOFFSETTO:-0600
TZNAME:CST
DTSTART:20301103T070000
END:STANDARD
END:VTIMEZONE
BEGIN:VEVENT
DTSTART;TZID=America/Chicago:20281101T193000
DTEND;TZID=America/Chicago:20281101T210000
DTSTAMP:20260421T171221
CREATED:20250212T011405Z
LAST-MODIFIED:20250212T011956Z
UID:10000455-1856719800-1856725200@goodnewsdallas.org
SUMMARY:Wednesday Service
DESCRIPTION:
URL:https://goodnewsdallas.org/event/wednesday-service/2028-11-01/
LOCATION:Good News Dallas Church\, 1149 N Plano Rd\, Garland\, Texas\, 75042\, United States
CATEGORIES:Weekly Service
END:VEVENT
BEGIN:VEVENT
DTSTART;TZID=America/Chicago:20281103T190000
DTEND;TZID=America/Chicago:20281103T210000
DTSTAMP:20260421T171221
CREATED:20250308T134104Z
LAST-MODIFIED:20251013T231156Z
UID:10000714-1856890800-1856898000@goodnewsdallas.org
SUMMARY:Mind Education
DESCRIPTION:
URL:https://goodnewsdallas.org/event/mind-education/2028-11-03/
LOCATION:Good News Dallas Church\, 1149 N Plano Rd\, Garland\, Texas\, 75042\, United States
CATEGORIES:Weekly Service
END:VEVENT
BEGIN:VEVENT
DTSTART;TZID=America/Chicago:20281105T100000
DTEND;TZID=America/Chicago:20281105T130000
DTSTAMP:20260421T171221
CREATED:20250212T010015Z
LAST-MODIFIED:20250212T011240Z
UID:10000194-1857031200-1857042000@goodnewsdallas.org
SUMMARY:Sunday Service
DESCRIPTION:
URL:https://goodnewsdallas.org/event/sunday-service/2028-11-05/
LOCATION:Good News Dallas Church\, 1149 N Plano Rd\, Garland\, Texas\, 75042\, United States
CATEGORIES:Weekly Service
END:VEVENT
BEGIN:VEVENT
DTSTART;TZID=America/Chicago:20281108T193000
DTEND;TZID=America/Chicago:20281108T210000
DTSTAMP:20260421T171221
CREATED:20250212T011405Z
LAST-MODIFIED:20250212T011956Z
UID:10000456-1857324600-1857330000@goodnewsdallas.org
SUMMARY:Wednesday Service
DESCRIPTION:
URL:https://goodnewsdallas.org/event/wednesday-service/2028-11-08/
LOCATION:Good News Dallas Church\, 1149 N Plano Rd\, Garland\, Texas\, 75042\, United States
CATEGORIES:Weekly Service
END:VEVENT
BEGIN:VEVENT
DTSTART;TZID=America/Chicago:20281110T190000
DTEND;TZID=America/Chicago:20281110T210000
DTSTAMP:20260421T171221
CREATED:20250308T134104Z
LAST-MODIFIED:20251013T231156Z
UID:10000715-1857495600-1857502800@goodnewsdallas.org
SUMMARY:Mind Education
DESCRIPTION:
URL:https://goodnewsdallas.org/event/mind-education/2028-11-10/
LOCATION:Good News Dallas Church\, 1149 N Plano Rd\, Garland\, Texas\, 75042\, United States
CATEGORIES:Weekly Service
END:VEVENT
BEGIN:VEVENT
DTSTART;TZID=America/Chicago:20281112T100000
DTEND;TZID=America/Chicago:20281112T130000
DTSTAMP:20260421T171221
CREATED:20250212T010015Z
LAST-MODIFIED:20250212T011240Z
UID:10000195-1857636000-1857646800@goodnewsdallas.org
SUMMARY:Sunday Service
DESCRIPTION:
URL:https://goodnewsdallas.org/event/sunday-service/2028-11-12/
LOCATION:Good News Dallas Church\, 1149 N Plano Rd\, Garland\, Texas\, 75042\, United States
CATEGORIES:Weekly Service
END:VEVENT
BEGIN:VEVENT
DTSTART;TZID=America/Chicago:20281115T193000
DTEND;TZID=America/Chicago:20281115T210000
DTSTAMP:20260421T171221
CREATED:20250212T011405Z
LAST-MODIFIED:20250212T011956Z
UID:10000457-1857929400-1857934800@goodnewsdallas.org
SUMMARY:Wednesday Service
DESCRIPTION:
URL:https://goodnewsdallas.org/event/wednesday-service/2028-11-15/
LOCATION:Good News Dallas Church\, 1149 N Plano Rd\, Garland\, Texas\, 75042\, United States
CATEGORIES:Weekly Service
END:VEVENT
BEGIN:VEVENT
DTSTART;TZID=America/Chicago:20281117T190000
DTEND;TZID=America/Chicago:20281117T210000
DTSTAMP:20260421T171221
CREATED:20250308T134104Z
LAST-MODIFIED:20251013T231156Z
UID:10000716-1858100400-1858107600@goodnewsdallas.org
SUMMARY:Mind Education
DESCRIPTION:
URL:https://goodnewsdallas.org/event/mind-education/2028-11-17/
LOCATION:Good News Dallas Church\, 1149 N Plano Rd\, Garland\, Texas\, 75042\, United States
CATEGORIES:Weekly Service
END:VEVENT
BEGIN:VEVENT
DTSTART;TZID=America/Chicago:20281119T100000
DTEND;TZID=America/Chicago:20281119T130000
DTSTAMP:20260421T171221
CREATED:20250212T010015Z
LAST-MODIFIED:20250212T011240Z
UID:10000196-1858240800-1858251600@goodnewsdallas.org
SUMMARY:Sunday Service
DESCRIPTION:
URL:https://goodnewsdallas.org/event/sunday-service/2028-11-19/
LOCATION:Good News Dallas Church\, 1149 N Plano Rd\, Garland\, Texas\, 75042\, United States
CATEGORIES:Weekly Service
END:VEVENT
BEGIN:VEVENT
DTSTART;TZID=America/Chicago:20281122T193000
DTEND;TZID=America/Chicago:20281122T210000
DTSTAMP:20260421T171221
CREATED:20250212T011405Z
LAST-MODIFIED:20250212T011956Z
UID:10000458-1858534200-1858539600@goodnewsdallas.org
SUMMARY:Wednesday Service
DESCRIPTION:
URL:https://goodnewsdallas.org/event/wednesday-service/2028-11-22/
LOCATION:Good News Dallas Church\, 1149 N Plano Rd\, Garland\, Texas\, 75042\, United States
CATEGORIES:Weekly Service
END:VEVENT
BEGIN:VEVENT
DTSTART;TZID=America/Chicago:20281124T190000
DTEND;TZID=America/Chicago:20281124T210000
DTSTAMP:20260421T171221
CREATED:20250308T134104Z
LAST-MODIFIED:20251013T231156Z
UID:10000717-1858705200-1858712400@goodnewsdallas.org
SUMMARY:Mind Education
DESCRIPTION:
URL:https://goodnewsdallas.org/event/mind-education/2028-11-24/
LOCATION:Good News Dallas Church\, 1149 N Plano Rd\, Garland\, Texas\, 75042\, United States
CATEGORIES:Weekly Service
END:VEVENT
BEGIN:VEVENT
DTSTART;TZID=America/Chicago:20281126T100000
DTEND;TZID=America/Chicago:20281126T130000
DTSTAMP:20260421T171221
CREATED:20250212T010015Z
LAST-MODIFIED:20250212T011240Z
UID:10000197-1858845600-1858856400@goodnewsdallas.org
SUMMARY:Sunday Service
DESCRIPTION:
URL:https://goodnewsdallas.org/event/sunday-service/2028-11-26/
LOCATION:Good News Dallas Church\, 1149 N Plano Rd\, Garland\, Texas\, 75042\, United States
CATEGORIES:Weekly Service
END:VEVENT
BEGIN:VEVENT
DTSTART;TZID=America/Chicago:20281129T193000
DTEND;TZID=America/Chicago:20281129T210000
DTSTAMP:20260421T171221
CREATED:20250212T011405Z
LAST-MODIFIED:20250212T011956Z
UID:10000459-1859139000-1859144400@goodnewsdallas.org
SUMMARY:Wednesday Service
DESCRIPTION:
URL:https://goodnewsdallas.org/event/wednesday-service/2028-11-29/
LOCATION:Good News Dallas Church\, 1149 N Plano Rd\, Garland\, Texas\, 75042\, United States
CATEGORIES:Weekly Service
END:VEVENT
BEGIN:VEVENT
DTSTART;TZID=America/Chicago:20281201T190000
DTEND;TZID=America/Chicago:20281201T210000
DTSTAMP:20260421T171221
CREATED:20250308T134104Z
LAST-MODIFIED:20251013T231156Z
UID:10000718-1859310000-1859317200@goodnewsdallas.org
SUMMARY:Mind Education
DESCRIPTION:
URL:https://goodnewsdallas.org/event/mind-education/2028-12-01/
LOCATION:Good News Dallas Church\, 1149 N Plano Rd\, Garland\, Texas\, 75042\, United States
CATEGORIES:Weekly Service
END:VEVENT
BEGIN:VEVENT
DTSTART;TZID=America/Chicago:20281203T100000
DTEND;TZID=America/Chicago:20281203T130000
DTSTAMP:20260421T171221
CREATED:20250212T010015Z
LAST-MODIFIED:20250212T011240Z
UID:10000198-1859450400-1859461200@goodnewsdallas.org
SUMMARY:Sunday Service
DESCRIPTION:
URL:https://goodnewsdallas.org/event/sunday-service/2028-12-03/
LOCATION:Good News Dallas Church\, 1149 N Plano Rd\, Garland\, Texas\, 75042\, United States
CATEGORIES:Weekly Service
END:VEVENT
BEGIN:VEVENT
DTSTART;TZID=America/Chicago:20281206T193000
DTEND;TZID=America/Chicago:20281206T210000
DTSTAMP:20260421T171221
CREATED:20250212T011405Z
LAST-MODIFIED:20250212T011956Z
UID:10000460-1859743800-1859749200@goodnewsdallas.org
SUMMARY:Wednesday Service
DESCRIPTION:
URL:https://goodnewsdallas.org/event/wednesday-service/2028-12-06/
LOCATION:Good News Dallas Church\, 1149 N Plano Rd\, Garland\, Texas\, 75042\, United States
CATEGORIES:Weekly Service
END:VEVENT
BEGIN:VEVENT
DTSTART;TZID=America/Chicago:20281208T190000
DTEND;TZID=America/Chicago:20281208T210000
DTSTAMP:20260421T171221
CREATED:20250308T134104Z
LAST-MODIFIED:20251013T231156Z
UID:10000719-1859914800-1859922000@goodnewsdallas.org
SUMMARY:Mind Education
DESCRIPTION:
URL:https://goodnewsdallas.org/event/mind-education/2028-12-08/
LOCATION:Good News Dallas Church\, 1149 N Plano Rd\, Garland\, Texas\, 75042\, United States
CATEGORIES:Weekly Service
END:VEVENT
BEGIN:VEVENT
DTSTART;TZID=America/Chicago:20281210T100000
DTEND;TZID=America/Chicago:20281210T130000
DTSTAMP:20260421T171221
CREATED:20250212T010015Z
LAST-MODIFIED:20250212T011240Z
UID:10000199-1860055200-1860066000@goodnewsdallas.org
SUMMARY:Sunday Service
DESCRIPTION:
URL:https://goodnewsdallas.org/event/sunday-service/2028-12-10/
LOCATION:Good News Dallas Church\, 1149 N Plano Rd\, Garland\, Texas\, 75042\, United States
CATEGORIES:Weekly Service
END:VEVENT
BEGIN:VEVENT
DTSTART;TZID=America/Chicago:20281213T193000
DTEND;TZID=America/Chicago:20281213T210000
DTSTAMP:20260421T171221
CREATED:20250212T011405Z
LAST-MODIFIED:20250212T011956Z
UID:10000461-1860348600-1860354000@goodnewsdallas.org
SUMMARY:Wednesday Service
DESCRIPTION:
URL:https://goodnewsdallas.org/event/wednesday-service/2028-12-13/
LOCATION:Good News Dallas Church\, 1149 N Plano Rd\, Garland\, Texas\, 75042\, United States
CATEGORIES:Weekly Service
END:VEVENT
BEGIN:VEVENT
DTSTART;TZID=America/Chicago:20281215T190000
DTEND;TZID=America/Chicago:20281215T210000
DTSTAMP:20260421T171221
CREATED:20250308T134104Z
LAST-MODIFIED:20251013T231156Z
UID:10000720-1860519600-1860526800@goodnewsdallas.org
SUMMARY:Mind Education
DESCRIPTION:
URL:https://goodnewsdallas.org/event/mind-education/2028-12-15/
LOCATION:Good News Dallas Church\, 1149 N Plano Rd\, Garland\, Texas\, 75042\, United States
CATEGORIES:Weekly Service
END:VEVENT
BEGIN:VEVENT
DTSTART;TZID=America/Chicago:20281217T100000
DTEND;TZID=America/Chicago:20281217T130000
DTSTAMP:20260421T171221
CREATED:20250212T010015Z
LAST-MODIFIED:20250212T011240Z
UID:10000200-1860660000-1860670800@goodnewsdallas.org
SUMMARY:Sunday Service
DESCRIPTION:
URL:https://goodnewsdallas.org/event/sunday-service/2028-12-17/
LOCATION:Good News Dallas Church\, 1149 N Plano Rd\, Garland\, Texas\, 75042\, United States
CATEGORIES:Weekly Service
END:VEVENT
BEGIN:VEVENT
DTSTART;TZID=America/Chicago:20281220T193000
DTEND;TZID=America/Chicago:20281220T210000
DTSTAMP:20260421T171221
CREATED:20250212T011405Z
LAST-MODIFIED:20250212T011956Z
UID:10000462-1860953400-1860958800@goodnewsdallas.org
SUMMARY:Wednesday Service
DESCRIPTION:
URL:https://goodnewsdallas.org/event/wednesday-service/2028-12-20/
LOCATION:Good News Dallas Church\, 1149 N Plano Rd\, Garland\, Texas\, 75042\, United States
CATEGORIES:Weekly Service
END:VEVENT
BEGIN:VEVENT
DTSTART;TZID=America/Chicago:20281222T190000
DTEND;TZID=America/Chicago:20281222T210000
DTSTAMP:20260421T171221
CREATED:20250308T134104Z
LAST-MODIFIED:20251013T231156Z
UID:10000721-1861124400-1861131600@goodnewsdallas.org
SUMMARY:Mind Education
DESCRIPTION:
URL:https://goodnewsdallas.org/event/mind-education/2028-12-22/
LOCATION:Good News Dallas Church\, 1149 N Plano Rd\, Garland\, Texas\, 75042\, United States
CATEGORIES:Weekly Service
END:VEVENT
BEGIN:VEVENT
DTSTART;TZID=America/Chicago:20281224T100000
DTEND;TZID=America/Chicago:20281224T130000
DTSTAMP:20260421T171221
CREATED:20250212T010015Z
LAST-MODIFIED:20250212T011240Z
UID:10000201-1861264800-1861275600@goodnewsdallas.org
SUMMARY:Sunday Service
DESCRIPTION:
URL:https://goodnewsdallas.org/event/sunday-service/2028-12-24/
LOCATION:Good News Dallas Church\, 1149 N Plano Rd\, Garland\, Texas\, 75042\, United States
CATEGORIES:Weekly Service
END:VEVENT
BEGIN:VEVENT
DTSTART;TZID=America/Chicago:20281227T193000
DTEND;TZID=America/Chicago:20281227T210000
DTSTAMP:20260421T171221
CREATED:20250212T011405Z
LAST-MODIFIED:20250212T011956Z
UID:10000463-1861558200-1861563600@goodnewsdallas.org
SUMMARY:Wednesday Service
DESCRIPTION:
URL:https://goodnewsdallas.org/event/wednesday-service/2028-12-27/
LOCATION:Good News Dallas Church\, 1149 N Plano Rd\, Garland\, Texas\, 75042\, United States
CATEGORIES:Weekly Service
END:VEVENT
BEGIN:VEVENT
DTSTART;TZID=America/Chicago:20281229T190000
DTEND;TZID=America/Chicago:20281229T210000
DTSTAMP:20260421T171221
CREATED:20250308T134104Z
LAST-MODIFIED:20251013T231156Z
UID:10000722-1861729200-1861736400@goodnewsdallas.org
SUMMARY:Mind Education
DESCRIPTION:
URL:https://goodnewsdallas.org/event/mind-education/2028-12-29/
LOCATION:Good News Dallas Church\, 1149 N Plano Rd\, Garland\, Texas\, 75042\, United States
CATEGORIES:Weekly Service
END:VEVENT
BEGIN:VEVENT
DTSTART;TZID=America/Chicago:20281231T100000
DTEND;TZID=America/Chicago:20281231T130000
DTSTAMP:20260421T171221
CREATED:20250212T010015Z
LAST-MODIFIED:20250212T011240Z
UID:10000202-1861869600-1861880400@goodnewsdallas.org
SUMMARY:Sunday Service
DESCRIPTION:
URL:https://goodnewsdallas.org/event/sunday-service/2028-12-31/
LOCATION:Good News Dallas Church\, 1149 N Plano Rd\, Garland\, Texas\, 75042\, United States
CATEGORIES:Weekly Service
END:VEVENT
BEGIN:VEVENT
DTSTART;TZID=America/Chicago:20290103T193000
DTEND;TZID=America/Chicago:20290103T210000
DTSTAMP:20260421T171221
CREATED:20250212T011405Z
LAST-MODIFIED:20250212T011956Z
UID:10000464-1862163000-1862168400@goodnewsdallas.org
SUMMARY:Wednesday Service
DESCRIPTION:
URL:https://goodnewsdallas.org/event/wednesday-service/2029-01-03/
LOCATION:Good News Dallas Church\, 1149 N Plano Rd\, Garland\, Texas\, 75042\, United States
CATEGORIES:Weekly Service
END:VEVENT
BEGIN:VEVENT
DTSTART;TZID=America/Chicago:20290105T190000
DTEND;TZID=America/Chicago:20290105T210000
DTSTAMP:20260421T171221
CREATED:20250308T134104Z
LAST-MODIFIED:20251013T231156Z
UID:10000723-1862334000-1862341200@goodnewsdallas.org
SUMMARY:Mind Education
DESCRIPTION:
URL:https://goodnewsdallas.org/event/mind-education/2029-01-05/
LOCATION:Good News Dallas Church\, 1149 N Plano Rd\, Garland\, Texas\, 75042\, United States
CATEGORIES:Weekly Service
END:VEVENT
BEGIN:VEVENT
DTSTART;TZID=America/Chicago:20290107T100000
DTEND;TZID=America/Chicago:20290107T130000
DTSTAMP:20260421T171221
CREATED:20250212T010015Z
LAST-MODIFIED:20250212T011240Z
UID:10000203-1862474400-1862485200@goodnewsdallas.org
SUMMARY:Sunday Service
DESCRIPTION:
URL:https://goodnewsdallas.org/event/sunday-service/2029-01-07/
LOCATION:Good News Dallas Church\, 1149 N Plano Rd\, Garland\, Texas\, 75042\, United States
CATEGORIES:Weekly Service
END:VEVENT
END:VCALENDAR