BEGIN:VCALENDAR
VERSION:2.0
PRODID:-//Good News Dallas Church - ECPv6.15.20//NONSGML v1.0//EN
CALSCALE:GREGORIAN
METHOD:PUBLISH
X-WR-CALNAME:Good News Dallas Church
X-ORIGINAL-URL:https://goodnewsdallas.org
X-WR-CALDESC:Events for Good News Dallas Church
REFRESH-INTERVAL;VALUE=DURATION:PT1H
X-Robots-Tag:noindex
X-PUBLISHED-TTL:PT1H
BEGIN:VTIMEZONE
TZID:America/Chicago
BEGIN:DAYLIGHT
TZOFFSETFROM:-0600
TZOFFSETTO:-0500
TZNAME:CDT
DTSTART:20270314T080000
END:DAYLIGHT
BEGIN:STANDARD
TZOFFSETFROM:-0500
TZOFFSETTO:-0600
TZNAME:CST
DTSTART:20271107T070000
END:STANDARD
BEGIN:DAYLIGHT
TZOFFSETFROM:-0600
TZOFFSETTO:-0500
TZNAME:CDT
DTSTART:20280312T080000
END:DAYLIGHT
BEGIN:STANDARD
TZOFFSETFROM:-0500
TZOFFSETTO:-0600
TZNAME:CST
DTSTART:20281105T070000
END:STANDARD
BEGIN:DAYLIGHT
TZOFFSETFROM:-0600
TZOFFSETTO:-0500
TZNAME:CDT
DTSTART:20290311T080000
END:DAYLIGHT
BEGIN:STANDARD
TZOFFSETFROM:-0500
TZOFFSETTO:-0600
TZNAME:CST
DTSTART:20291104T070000
END:STANDARD
BEGIN:DAYLIGHT
TZOFFSETFROM:-0600
TZOFFSETTO:-0500
TZNAME:CDT
DTSTART:20300310T080000
END:DAYLIGHT
BEGIN:STANDARD
TZOFFSETFROM:-0500
TZOFFSETTO:-0600
TZNAME:CST
DTSTART:20301103T070000
END:STANDARD
END:VTIMEZONE
BEGIN:VEVENT
DTSTART;TZID=America/Chicago:20281227T193000
DTEND;TZID=America/Chicago:20281227T210000
DTSTAMP:20260421T203559
CREATED:20250212T011405Z
LAST-MODIFIED:20250212T011956Z
UID:10000463-1861558200-1861563600@goodnewsdallas.org
SUMMARY:Wednesday Service
DESCRIPTION:
URL:https://goodnewsdallas.org/event/wednesday-service/2028-12-27/
LOCATION:Good News Dallas Church\, 1149 N Plano Rd\, Garland\, Texas\, 75042\, United States
CATEGORIES:Weekly Service
END:VEVENT
BEGIN:VEVENT
DTSTART;TZID=America/Chicago:20281229T190000
DTEND;TZID=America/Chicago:20281229T210000
DTSTAMP:20260421T203559
CREATED:20250308T134104Z
LAST-MODIFIED:20251013T231156Z
UID:10000722-1861729200-1861736400@goodnewsdallas.org
SUMMARY:Mind Education
DESCRIPTION:
URL:https://goodnewsdallas.org/event/mind-education/2028-12-29/
LOCATION:Good News Dallas Church\, 1149 N Plano Rd\, Garland\, Texas\, 75042\, United States
CATEGORIES:Weekly Service
END:VEVENT
BEGIN:VEVENT
DTSTART;TZID=America/Chicago:20281231T100000
DTEND;TZID=America/Chicago:20281231T130000
DTSTAMP:20260421T203559
CREATED:20250212T010015Z
LAST-MODIFIED:20250212T011240Z
UID:10000202-1861869600-1861880400@goodnewsdallas.org
SUMMARY:Sunday Service
DESCRIPTION:
URL:https://goodnewsdallas.org/event/sunday-service/2028-12-31/
LOCATION:Good News Dallas Church\, 1149 N Plano Rd\, Garland\, Texas\, 75042\, United States
CATEGORIES:Weekly Service
END:VEVENT
BEGIN:VEVENT
DTSTART;TZID=America/Chicago:20290103T193000
DTEND;TZID=America/Chicago:20290103T210000
DTSTAMP:20260421T203559
CREATED:20250212T011405Z
LAST-MODIFIED:20250212T011956Z
UID:10000464-1862163000-1862168400@goodnewsdallas.org
SUMMARY:Wednesday Service
DESCRIPTION:
URL:https://goodnewsdallas.org/event/wednesday-service/2029-01-03/
LOCATION:Good News Dallas Church\, 1149 N Plano Rd\, Garland\, Texas\, 75042\, United States
CATEGORIES:Weekly Service
END:VEVENT
BEGIN:VEVENT
DTSTART;TZID=America/Chicago:20290105T190000
DTEND;TZID=America/Chicago:20290105T210000
DTSTAMP:20260421T203559
CREATED:20250308T134104Z
LAST-MODIFIED:20251013T231156Z
UID:10000723-1862334000-1862341200@goodnewsdallas.org
SUMMARY:Mind Education
DESCRIPTION:
URL:https://goodnewsdallas.org/event/mind-education/2029-01-05/
LOCATION:Good News Dallas Church\, 1149 N Plano Rd\, Garland\, Texas\, 75042\, United States
CATEGORIES:Weekly Service
END:VEVENT
BEGIN:VEVENT
DTSTART;TZID=America/Chicago:20290107T100000
DTEND;TZID=America/Chicago:20290107T130000
DTSTAMP:20260421T203559
CREATED:20250212T010015Z
LAST-MODIFIED:20250212T011240Z
UID:10000203-1862474400-1862485200@goodnewsdallas.org
SUMMARY:Sunday Service
DESCRIPTION:
URL:https://goodnewsdallas.org/event/sunday-service/2029-01-07/
LOCATION:Good News Dallas Church\, 1149 N Plano Rd\, Garland\, Texas\, 75042\, United States
CATEGORIES:Weekly Service
END:VEVENT
BEGIN:VEVENT
DTSTART;TZID=America/Chicago:20290110T193000
DTEND;TZID=America/Chicago:20290110T210000
DTSTAMP:20260421T203559
CREATED:20250212T011405Z
LAST-MODIFIED:20250212T011956Z
UID:10000465-1862767800-1862773200@goodnewsdallas.org
SUMMARY:Wednesday Service
DESCRIPTION:
URL:https://goodnewsdallas.org/event/wednesday-service/2029-01-10/
LOCATION:Good News Dallas Church\, 1149 N Plano Rd\, Garland\, Texas\, 75042\, United States
CATEGORIES:Weekly Service
END:VEVENT
BEGIN:VEVENT
DTSTART;TZID=America/Chicago:20290112T190000
DTEND;TZID=America/Chicago:20290112T210000
DTSTAMP:20260421T203559
CREATED:20250308T134104Z
LAST-MODIFIED:20251013T231156Z
UID:10000724-1862938800-1862946000@goodnewsdallas.org
SUMMARY:Mind Education
DESCRIPTION:
URL:https://goodnewsdallas.org/event/mind-education/2029-01-12/
LOCATION:Good News Dallas Church\, 1149 N Plano Rd\, Garland\, Texas\, 75042\, United States
CATEGORIES:Weekly Service
END:VEVENT
BEGIN:VEVENT
DTSTART;TZID=America/Chicago:20290114T100000
DTEND;TZID=America/Chicago:20290114T130000
DTSTAMP:20260421T203559
CREATED:20250212T010015Z
LAST-MODIFIED:20250212T011240Z
UID:10000204-1863079200-1863090000@goodnewsdallas.org
SUMMARY:Sunday Service
DESCRIPTION:
URL:https://goodnewsdallas.org/event/sunday-service/2029-01-14/
LOCATION:Good News Dallas Church\, 1149 N Plano Rd\, Garland\, Texas\, 75042\, United States
CATEGORIES:Weekly Service
END:VEVENT
BEGIN:VEVENT
DTSTART;TZID=America/Chicago:20290117T193000
DTEND;TZID=America/Chicago:20290117T210000
DTSTAMP:20260421T203559
CREATED:20250212T011405Z
LAST-MODIFIED:20250212T011956Z
UID:10000466-1863372600-1863378000@goodnewsdallas.org
SUMMARY:Wednesday Service
DESCRIPTION:
URL:https://goodnewsdallas.org/event/wednesday-service/2029-01-17/
LOCATION:Good News Dallas Church\, 1149 N Plano Rd\, Garland\, Texas\, 75042\, United States
CATEGORIES:Weekly Service
END:VEVENT
BEGIN:VEVENT
DTSTART;TZID=America/Chicago:20290119T190000
DTEND;TZID=America/Chicago:20290119T210000
DTSTAMP:20260421T203559
CREATED:20250308T134104Z
LAST-MODIFIED:20251013T231156Z
UID:10000725-1863543600-1863550800@goodnewsdallas.org
SUMMARY:Mind Education
DESCRIPTION:
URL:https://goodnewsdallas.org/event/mind-education/2029-01-19/
LOCATION:Good News Dallas Church\, 1149 N Plano Rd\, Garland\, Texas\, 75042\, United States
CATEGORIES:Weekly Service
END:VEVENT
BEGIN:VEVENT
DTSTART;TZID=America/Chicago:20290121T100000
DTEND;TZID=America/Chicago:20290121T130000
DTSTAMP:20260421T203559
CREATED:20250212T010015Z
LAST-MODIFIED:20250212T011240Z
UID:10000205-1863684000-1863694800@goodnewsdallas.org
SUMMARY:Sunday Service
DESCRIPTION:
URL:https://goodnewsdallas.org/event/sunday-service/2029-01-21/
LOCATION:Good News Dallas Church\, 1149 N Plano Rd\, Garland\, Texas\, 75042\, United States
CATEGORIES:Weekly Service
END:VEVENT
BEGIN:VEVENT
DTSTART;TZID=America/Chicago:20290124T193000
DTEND;TZID=America/Chicago:20290124T210000
DTSTAMP:20260421T203559
CREATED:20250212T011405Z
LAST-MODIFIED:20250212T011956Z
UID:10000467-1863977400-1863982800@goodnewsdallas.org
SUMMARY:Wednesday Service
DESCRIPTION:
URL:https://goodnewsdallas.org/event/wednesday-service/2029-01-24/
LOCATION:Good News Dallas Church\, 1149 N Plano Rd\, Garland\, Texas\, 75042\, United States
CATEGORIES:Weekly Service
END:VEVENT
BEGIN:VEVENT
DTSTART;TZID=America/Chicago:20290126T190000
DTEND;TZID=America/Chicago:20290126T210000
DTSTAMP:20260421T203559
CREATED:20250308T134104Z
LAST-MODIFIED:20251013T231156Z
UID:10000726-1864148400-1864155600@goodnewsdallas.org
SUMMARY:Mind Education
DESCRIPTION:
URL:https://goodnewsdallas.org/event/mind-education/2029-01-26/
LOCATION:Good News Dallas Church\, 1149 N Plano Rd\, Garland\, Texas\, 75042\, United States
CATEGORIES:Weekly Service
END:VEVENT
BEGIN:VEVENT
DTSTART;TZID=America/Chicago:20290128T100000
DTEND;TZID=America/Chicago:20290128T130000
DTSTAMP:20260421T203559
CREATED:20250212T010015Z
LAST-MODIFIED:20250212T011240Z
UID:10000206-1864288800-1864299600@goodnewsdallas.org
SUMMARY:Sunday Service
DESCRIPTION:
URL:https://goodnewsdallas.org/event/sunday-service/2029-01-28/
LOCATION:Good News Dallas Church\, 1149 N Plano Rd\, Garland\, Texas\, 75042\, United States
CATEGORIES:Weekly Service
END:VEVENT
BEGIN:VEVENT
DTSTART;TZID=America/Chicago:20290131T193000
DTEND;TZID=America/Chicago:20290131T210000
DTSTAMP:20260421T203559
CREATED:20250212T011405Z
LAST-MODIFIED:20250212T011956Z
UID:10000468-1864582200-1864587600@goodnewsdallas.org
SUMMARY:Wednesday Service
DESCRIPTION:
URL:https://goodnewsdallas.org/event/wednesday-service/2029-01-31/
LOCATION:Good News Dallas Church\, 1149 N Plano Rd\, Garland\, Texas\, 75042\, United States
CATEGORIES:Weekly Service
END:VEVENT
BEGIN:VEVENT
DTSTART;TZID=America/Chicago:20290202T190000
DTEND;TZID=America/Chicago:20290202T210000
DTSTAMP:20260421T203559
CREATED:20250308T134104Z
LAST-MODIFIED:20251013T231156Z
UID:10000727-1864753200-1864760400@goodnewsdallas.org
SUMMARY:Mind Education
DESCRIPTION:
URL:https://goodnewsdallas.org/event/mind-education/2029-02-02/
LOCATION:Good News Dallas Church\, 1149 N Plano Rd\, Garland\, Texas\, 75042\, United States
CATEGORIES:Weekly Service
END:VEVENT
BEGIN:VEVENT
DTSTART;TZID=America/Chicago:20290204T100000
DTEND;TZID=America/Chicago:20290204T130000
DTSTAMP:20260421T203559
CREATED:20250212T010015Z
LAST-MODIFIED:20250212T011240Z
UID:10000207-1864893600-1864904400@goodnewsdallas.org
SUMMARY:Sunday Service
DESCRIPTION:
URL:https://goodnewsdallas.org/event/sunday-service/2029-02-04/
LOCATION:Good News Dallas Church\, 1149 N Plano Rd\, Garland\, Texas\, 75042\, United States
CATEGORIES:Weekly Service
END:VEVENT
BEGIN:VEVENT
DTSTART;TZID=America/Chicago:20290207T193000
DTEND;TZID=America/Chicago:20290207T210000
DTSTAMP:20260421T203559
CREATED:20250212T011405Z
LAST-MODIFIED:20250212T011956Z
UID:10000469-1865187000-1865192400@goodnewsdallas.org
SUMMARY:Wednesday Service
DESCRIPTION:
URL:https://goodnewsdallas.org/event/wednesday-service/2029-02-07/
LOCATION:Good News Dallas Church\, 1149 N Plano Rd\, Garland\, Texas\, 75042\, United States
CATEGORIES:Weekly Service
END:VEVENT
BEGIN:VEVENT
DTSTART;TZID=America/Chicago:20290209T190000
DTEND;TZID=America/Chicago:20290209T210000
DTSTAMP:20260421T203559
CREATED:20250308T134104Z
LAST-MODIFIED:20251013T231156Z
UID:10000728-1865358000-1865365200@goodnewsdallas.org
SUMMARY:Mind Education
DESCRIPTION:
URL:https://goodnewsdallas.org/event/mind-education/2029-02-09/
LOCATION:Good News Dallas Church\, 1149 N Plano Rd\, Garland\, Texas\, 75042\, United States
CATEGORIES:Weekly Service
END:VEVENT
BEGIN:VEVENT
DTSTART;TZID=America/Chicago:20290211T100000
DTEND;TZID=America/Chicago:20290211T130000
DTSTAMP:20260421T203559
CREATED:20250212T010015Z
LAST-MODIFIED:20250212T011240Z
UID:10000208-1865498400-1865509200@goodnewsdallas.org
SUMMARY:Sunday Service
DESCRIPTION:
URL:https://goodnewsdallas.org/event/sunday-service/2029-02-11/
LOCATION:Good News Dallas Church\, 1149 N Plano Rd\, Garland\, Texas\, 75042\, United States
CATEGORIES:Weekly Service
END:VEVENT
BEGIN:VEVENT
DTSTART;TZID=America/Chicago:20290214T193000
DTEND;TZID=America/Chicago:20290214T210000
DTSTAMP:20260421T203559
CREATED:20250212T011405Z
LAST-MODIFIED:20250212T011956Z
UID:10000470-1865791800-1865797200@goodnewsdallas.org
SUMMARY:Wednesday Service
DESCRIPTION:
URL:https://goodnewsdallas.org/event/wednesday-service/2029-02-14/
LOCATION:Good News Dallas Church\, 1149 N Plano Rd\, Garland\, Texas\, 75042\, United States
CATEGORIES:Weekly Service
END:VEVENT
BEGIN:VEVENT
DTSTART;TZID=America/Chicago:20290216T190000
DTEND;TZID=America/Chicago:20290216T210000
DTSTAMP:20260421T203559
CREATED:20250308T134104Z
LAST-MODIFIED:20251013T231156Z
UID:10000729-1865962800-1865970000@goodnewsdallas.org
SUMMARY:Mind Education
DESCRIPTION:
URL:https://goodnewsdallas.org/event/mind-education/2029-02-16/
LOCATION:Good News Dallas Church\, 1149 N Plano Rd\, Garland\, Texas\, 75042\, United States
CATEGORIES:Weekly Service
END:VEVENT
BEGIN:VEVENT
DTSTART;TZID=America/Chicago:20290218T100000
DTEND;TZID=America/Chicago:20290218T130000
DTSTAMP:20260421T203559
CREATED:20250212T010015Z
LAST-MODIFIED:20250212T011240Z
UID:10000209-1866103200-1866114000@goodnewsdallas.org
SUMMARY:Sunday Service
DESCRIPTION:
URL:https://goodnewsdallas.org/event/sunday-service/2029-02-18/
LOCATION:Good News Dallas Church\, 1149 N Plano Rd\, Garland\, Texas\, 75042\, United States
CATEGORIES:Weekly Service
END:VEVENT
BEGIN:VEVENT
DTSTART;TZID=America/Chicago:20290221T193000
DTEND;TZID=America/Chicago:20290221T210000
DTSTAMP:20260421T203559
CREATED:20250212T011405Z
LAST-MODIFIED:20250212T011956Z
UID:10000471-1866396600-1866402000@goodnewsdallas.org
SUMMARY:Wednesday Service
DESCRIPTION:
URL:https://goodnewsdallas.org/event/wednesday-service/2029-02-21/
LOCATION:Good News Dallas Church\, 1149 N Plano Rd\, Garland\, Texas\, 75042\, United States
CATEGORIES:Weekly Service
END:VEVENT
BEGIN:VEVENT
DTSTART;TZID=America/Chicago:20290223T190000
DTEND;TZID=America/Chicago:20290223T210000
DTSTAMP:20260421T203559
CREATED:20250308T134104Z
LAST-MODIFIED:20251013T231156Z
UID:10000730-1866567600-1866574800@goodnewsdallas.org
SUMMARY:Mind Education
DESCRIPTION:
URL:https://goodnewsdallas.org/event/mind-education/2029-02-23/
LOCATION:Good News Dallas Church\, 1149 N Plano Rd\, Garland\, Texas\, 75042\, United States
CATEGORIES:Weekly Service
END:VEVENT
BEGIN:VEVENT
DTSTART;TZID=America/Chicago:20290225T100000
DTEND;TZID=America/Chicago:20290225T130000
DTSTAMP:20260421T203559
CREATED:20250212T010015Z
LAST-MODIFIED:20250212T011240Z
UID:10000210-1866708000-1866718800@goodnewsdallas.org
SUMMARY:Sunday Service
DESCRIPTION:
URL:https://goodnewsdallas.org/event/sunday-service/2029-02-25/
LOCATION:Good News Dallas Church\, 1149 N Plano Rd\, Garland\, Texas\, 75042\, United States
CATEGORIES:Weekly Service
END:VEVENT
BEGIN:VEVENT
DTSTART;TZID=America/Chicago:20290228T193000
DTEND;TZID=America/Chicago:20290228T210000
DTSTAMP:20260421T203559
CREATED:20250212T011405Z
LAST-MODIFIED:20250212T011956Z
UID:10000472-1867001400-1867006800@goodnewsdallas.org
SUMMARY:Wednesday Service
DESCRIPTION:
URL:https://goodnewsdallas.org/event/wednesday-service/2029-02-28/
LOCATION:Good News Dallas Church\, 1149 N Plano Rd\, Garland\, Texas\, 75042\, United States
CATEGORIES:Weekly Service
END:VEVENT
BEGIN:VEVENT
DTSTART;TZID=America/Chicago:20290302T190000
DTEND;TZID=America/Chicago:20290302T210000
DTSTAMP:20260421T203559
CREATED:20250308T134104Z
LAST-MODIFIED:20251013T231156Z
UID:10000731-1867172400-1867179600@goodnewsdallas.org
SUMMARY:Mind Education
DESCRIPTION:
URL:https://goodnewsdallas.org/event/mind-education/2029-03-02/
LOCATION:Good News Dallas Church\, 1149 N Plano Rd\, Garland\, Texas\, 75042\, United States
CATEGORIES:Weekly Service
END:VEVENT
BEGIN:VEVENT
DTSTART;TZID=America/Chicago:20290304T100000
DTEND;TZID=America/Chicago:20290304T130000
DTSTAMP:20260421T203559
CREATED:20250212T010015Z
LAST-MODIFIED:20250212T011240Z
UID:10000211-1867312800-1867323600@goodnewsdallas.org
SUMMARY:Sunday Service
DESCRIPTION:
URL:https://goodnewsdallas.org/event/sunday-service/2029-03-04/
LOCATION:Good News Dallas Church\, 1149 N Plano Rd\, Garland\, Texas\, 75042\, United States
CATEGORIES:Weekly Service
END:VEVENT
END:VCALENDAR