BEGIN:VCALENDAR
VERSION:2.0
PRODID:-//Good News Dallas Church - ECPv6.15.20//NONSGML v1.0//EN
CALSCALE:GREGORIAN
METHOD:PUBLISH
X-WR-CALNAME:Good News Dallas Church
X-ORIGINAL-URL:https://goodnewsdallas.org
X-WR-CALDESC:Events for Good News Dallas Church
REFRESH-INTERVAL;VALUE=DURATION:PT1H
X-Robots-Tag:noindex
X-PUBLISHED-TTL:PT1H
BEGIN:VTIMEZONE
TZID:America/Chicago
BEGIN:DAYLIGHT
TZOFFSETFROM:-0600
TZOFFSETTO:-0500
TZNAME:CDT
DTSTART:20280312T080000
END:DAYLIGHT
BEGIN:STANDARD
TZOFFSETFROM:-0500
TZOFFSETTO:-0600
TZNAME:CST
DTSTART:20281105T070000
END:STANDARD
BEGIN:DAYLIGHT
TZOFFSETFROM:-0600
TZOFFSETTO:-0500
TZNAME:CDT
DTSTART:20290311T080000
END:DAYLIGHT
BEGIN:STANDARD
TZOFFSETFROM:-0500
TZOFFSETTO:-0600
TZNAME:CST
DTSTART:20291104T070000
END:STANDARD
BEGIN:DAYLIGHT
TZOFFSETFROM:-0600
TZOFFSETTO:-0500
TZNAME:CDT
DTSTART:20300310T080000
END:DAYLIGHT
BEGIN:STANDARD
TZOFFSETFROM:-0500
TZOFFSETTO:-0600
TZNAME:CST
DTSTART:20301103T070000
END:STANDARD
END:VTIMEZONE
BEGIN:VEVENT
DTSTART;TZID=America/Chicago:20290330T190000
DTEND;TZID=America/Chicago:20290330T210000
DTSTAMP:20260422T165033
CREATED:20250308T134104Z
LAST-MODIFIED:20251013T231156Z
UID:10000735-1869591600-1869598800@goodnewsdallas.org
SUMMARY:Mind Education
DESCRIPTION:
URL:https://goodnewsdallas.org/event/mind-education/2029-03-30/
LOCATION:Good News Dallas Church\, 1149 N Plano Rd\, Garland\, Texas\, 75042\, United States
CATEGORIES:Weekly Service
END:VEVENT
BEGIN:VEVENT
DTSTART;TZID=America/Chicago:20290401T100000
DTEND;TZID=America/Chicago:20290401T130000
DTSTAMP:20260422T165033
CREATED:20250212T010015Z
LAST-MODIFIED:20250212T011240Z
UID:10000215-1869732000-1869742800@goodnewsdallas.org
SUMMARY:Sunday Service
DESCRIPTION:
URL:https://goodnewsdallas.org/event/sunday-service/2029-04-01/
LOCATION:Good News Dallas Church\, 1149 N Plano Rd\, Garland\, Texas\, 75042\, United States
CATEGORIES:Weekly Service
END:VEVENT
BEGIN:VEVENT
DTSTART;TZID=America/Chicago:20290404T193000
DTEND;TZID=America/Chicago:20290404T210000
DTSTAMP:20260422T165033
CREATED:20250212T011405Z
LAST-MODIFIED:20250212T011956Z
UID:10000477-1870025400-1870030800@goodnewsdallas.org
SUMMARY:Wednesday Service
DESCRIPTION:
URL:https://goodnewsdallas.org/event/wednesday-service/2029-04-04/
LOCATION:Good News Dallas Church\, 1149 N Plano Rd\, Garland\, Texas\, 75042\, United States
CATEGORIES:Weekly Service
END:VEVENT
BEGIN:VEVENT
DTSTART;TZID=America/Chicago:20290406T190000
DTEND;TZID=America/Chicago:20290406T210000
DTSTAMP:20260422T165033
CREATED:20250308T134104Z
LAST-MODIFIED:20251013T231156Z
UID:10000736-1870196400-1870203600@goodnewsdallas.org
SUMMARY:Mind Education
DESCRIPTION:
URL:https://goodnewsdallas.org/event/mind-education/2029-04-06/
LOCATION:Good News Dallas Church\, 1149 N Plano Rd\, Garland\, Texas\, 75042\, United States
CATEGORIES:Weekly Service
END:VEVENT
BEGIN:VEVENT
DTSTART;TZID=America/Chicago:20290408T100000
DTEND;TZID=America/Chicago:20290408T130000
DTSTAMP:20260422T165033
CREATED:20250212T010015Z
LAST-MODIFIED:20250212T011240Z
UID:10000216-1870336800-1870347600@goodnewsdallas.org
SUMMARY:Sunday Service
DESCRIPTION:
URL:https://goodnewsdallas.org/event/sunday-service/2029-04-08/
LOCATION:Good News Dallas Church\, 1149 N Plano Rd\, Garland\, Texas\, 75042\, United States
CATEGORIES:Weekly Service
END:VEVENT
BEGIN:VEVENT
DTSTART;TZID=America/Chicago:20290411T193000
DTEND;TZID=America/Chicago:20290411T210000
DTSTAMP:20260422T165033
CREATED:20250212T011405Z
LAST-MODIFIED:20250212T011956Z
UID:10000478-1870630200-1870635600@goodnewsdallas.org
SUMMARY:Wednesday Service
DESCRIPTION:
URL:https://goodnewsdallas.org/event/wednesday-service/2029-04-11/
LOCATION:Good News Dallas Church\, 1149 N Plano Rd\, Garland\, Texas\, 75042\, United States
CATEGORIES:Weekly Service
END:VEVENT
BEGIN:VEVENT
DTSTART;TZID=America/Chicago:20290413T190000
DTEND;TZID=America/Chicago:20290413T210000
DTSTAMP:20260422T165033
CREATED:20250308T134104Z
LAST-MODIFIED:20251013T231156Z
UID:10000737-1870801200-1870808400@goodnewsdallas.org
SUMMARY:Mind Education
DESCRIPTION:
URL:https://goodnewsdallas.org/event/mind-education/2029-04-13/
LOCATION:Good News Dallas Church\, 1149 N Plano Rd\, Garland\, Texas\, 75042\, United States
CATEGORIES:Weekly Service
END:VEVENT
BEGIN:VEVENT
DTSTART;TZID=America/Chicago:20290415T100000
DTEND;TZID=America/Chicago:20290415T130000
DTSTAMP:20260422T165033
CREATED:20250212T010015Z
LAST-MODIFIED:20250212T011240Z
UID:10000217-1870941600-1870952400@goodnewsdallas.org
SUMMARY:Sunday Service
DESCRIPTION:
URL:https://goodnewsdallas.org/event/sunday-service/2029-04-15/
LOCATION:Good News Dallas Church\, 1149 N Plano Rd\, Garland\, Texas\, 75042\, United States
CATEGORIES:Weekly Service
END:VEVENT
BEGIN:VEVENT
DTSTART;TZID=America/Chicago:20290418T193000
DTEND;TZID=America/Chicago:20290418T210000
DTSTAMP:20260422T165033
CREATED:20250212T011405Z
LAST-MODIFIED:20250212T011956Z
UID:10000479-1871235000-1871240400@goodnewsdallas.org
SUMMARY:Wednesday Service
DESCRIPTION:
URL:https://goodnewsdallas.org/event/wednesday-service/2029-04-18/
LOCATION:Good News Dallas Church\, 1149 N Plano Rd\, Garland\, Texas\, 75042\, United States
CATEGORIES:Weekly Service
END:VEVENT
BEGIN:VEVENT
DTSTART;TZID=America/Chicago:20290420T190000
DTEND;TZID=America/Chicago:20290420T210000
DTSTAMP:20260422T165033
CREATED:20250308T134104Z
LAST-MODIFIED:20251013T231156Z
UID:10000738-1871406000-1871413200@goodnewsdallas.org
SUMMARY:Mind Education
DESCRIPTION:
URL:https://goodnewsdallas.org/event/mind-education/2029-04-20/
LOCATION:Good News Dallas Church\, 1149 N Plano Rd\, Garland\, Texas\, 75042\, United States
CATEGORIES:Weekly Service
END:VEVENT
BEGIN:VEVENT
DTSTART;TZID=America/Chicago:20290422T100000
DTEND;TZID=America/Chicago:20290422T130000
DTSTAMP:20260422T165033
CREATED:20250212T010015Z
LAST-MODIFIED:20250212T011240Z
UID:10000218-1871546400-1871557200@goodnewsdallas.org
SUMMARY:Sunday Service
DESCRIPTION:
URL:https://goodnewsdallas.org/event/sunday-service/2029-04-22/
LOCATION:Good News Dallas Church\, 1149 N Plano Rd\, Garland\, Texas\, 75042\, United States
CATEGORIES:Weekly Service
END:VEVENT
BEGIN:VEVENT
DTSTART;TZID=America/Chicago:20290425T193000
DTEND;TZID=America/Chicago:20290425T210000
DTSTAMP:20260422T165033
CREATED:20250212T011405Z
LAST-MODIFIED:20250212T011956Z
UID:10000480-1871839800-1871845200@goodnewsdallas.org
SUMMARY:Wednesday Service
DESCRIPTION:
URL:https://goodnewsdallas.org/event/wednesday-service/2029-04-25/
LOCATION:Good News Dallas Church\, 1149 N Plano Rd\, Garland\, Texas\, 75042\, United States
CATEGORIES:Weekly Service
END:VEVENT
BEGIN:VEVENT
DTSTART;TZID=America/Chicago:20290427T190000
DTEND;TZID=America/Chicago:20290427T210000
DTSTAMP:20260422T165033
CREATED:20250308T134104Z
LAST-MODIFIED:20251013T231156Z
UID:10000739-1872010800-1872018000@goodnewsdallas.org
SUMMARY:Mind Education
DESCRIPTION:
URL:https://goodnewsdallas.org/event/mind-education/2029-04-27/
LOCATION:Good News Dallas Church\, 1149 N Plano Rd\, Garland\, Texas\, 75042\, United States
CATEGORIES:Weekly Service
END:VEVENT
BEGIN:VEVENT
DTSTART;TZID=America/Chicago:20290429T100000
DTEND;TZID=America/Chicago:20290429T130000
DTSTAMP:20260422T165033
CREATED:20250212T010015Z
LAST-MODIFIED:20250212T011240Z
UID:10000219-1872151200-1872162000@goodnewsdallas.org
SUMMARY:Sunday Service
DESCRIPTION:
URL:https://goodnewsdallas.org/event/sunday-service/2029-04-29/
LOCATION:Good News Dallas Church\, 1149 N Plano Rd\, Garland\, Texas\, 75042\, United States
CATEGORIES:Weekly Service
END:VEVENT
BEGIN:VEVENT
DTSTART;TZID=America/Chicago:20290502T193000
DTEND;TZID=America/Chicago:20290502T210000
DTSTAMP:20260422T165033
CREATED:20250212T011405Z
LAST-MODIFIED:20250212T011956Z
UID:10000481-1872444600-1872450000@goodnewsdallas.org
SUMMARY:Wednesday Service
DESCRIPTION:
URL:https://goodnewsdallas.org/event/wednesday-service/2029-05-02/
LOCATION:Good News Dallas Church\, 1149 N Plano Rd\, Garland\, Texas\, 75042\, United States
CATEGORIES:Weekly Service
END:VEVENT
BEGIN:VEVENT
DTSTART;TZID=America/Chicago:20290504T190000
DTEND;TZID=America/Chicago:20290504T210000
DTSTAMP:20260422T165033
CREATED:20250308T134104Z
LAST-MODIFIED:20251013T231156Z
UID:10000740-1872615600-1872622800@goodnewsdallas.org
SUMMARY:Mind Education
DESCRIPTION:
URL:https://goodnewsdallas.org/event/mind-education/2029-05-04/
LOCATION:Good News Dallas Church\, 1149 N Plano Rd\, Garland\, Texas\, 75042\, United States
CATEGORIES:Weekly Service
END:VEVENT
BEGIN:VEVENT
DTSTART;TZID=America/Chicago:20290506T100000
DTEND;TZID=America/Chicago:20290506T130000
DTSTAMP:20260422T165033
CREATED:20250212T010015Z
LAST-MODIFIED:20250212T011240Z
UID:10000220-1872756000-1872766800@goodnewsdallas.org
SUMMARY:Sunday Service
DESCRIPTION:
URL:https://goodnewsdallas.org/event/sunday-service/2029-05-06/
LOCATION:Good News Dallas Church\, 1149 N Plano Rd\, Garland\, Texas\, 75042\, United States
CATEGORIES:Weekly Service
END:VEVENT
BEGIN:VEVENT
DTSTART;TZID=America/Chicago:20290509T193000
DTEND;TZID=America/Chicago:20290509T210000
DTSTAMP:20260422T165033
CREATED:20250212T011405Z
LAST-MODIFIED:20250212T011956Z
UID:10000482-1873049400-1873054800@goodnewsdallas.org
SUMMARY:Wednesday Service
DESCRIPTION:
URL:https://goodnewsdallas.org/event/wednesday-service/2029-05-09/
LOCATION:Good News Dallas Church\, 1149 N Plano Rd\, Garland\, Texas\, 75042\, United States
CATEGORIES:Weekly Service
END:VEVENT
BEGIN:VEVENT
DTSTART;TZID=America/Chicago:20290511T190000
DTEND;TZID=America/Chicago:20290511T210000
DTSTAMP:20260422T165033
CREATED:20250308T134104Z
LAST-MODIFIED:20251013T231156Z
UID:10000741-1873220400-1873227600@goodnewsdallas.org
SUMMARY:Mind Education
DESCRIPTION:
URL:https://goodnewsdallas.org/event/mind-education/2029-05-11/
LOCATION:Good News Dallas Church\, 1149 N Plano Rd\, Garland\, Texas\, 75042\, United States
CATEGORIES:Weekly Service
END:VEVENT
BEGIN:VEVENT
DTSTART;TZID=America/Chicago:20290513T100000
DTEND;TZID=America/Chicago:20290513T130000
DTSTAMP:20260422T165033
CREATED:20250212T010015Z
LAST-MODIFIED:20250212T011240Z
UID:10000221-1873360800-1873371600@goodnewsdallas.org
SUMMARY:Sunday Service
DESCRIPTION:
URL:https://goodnewsdallas.org/event/sunday-service/2029-05-13/
LOCATION:Good News Dallas Church\, 1149 N Plano Rd\, Garland\, Texas\, 75042\, United States
CATEGORIES:Weekly Service
END:VEVENT
BEGIN:VEVENT
DTSTART;TZID=America/Chicago:20290516T193000
DTEND;TZID=America/Chicago:20290516T210000
DTSTAMP:20260422T165033
CREATED:20250212T011405Z
LAST-MODIFIED:20250212T011956Z
UID:10000483-1873654200-1873659600@goodnewsdallas.org
SUMMARY:Wednesday Service
DESCRIPTION:
URL:https://goodnewsdallas.org/event/wednesday-service/2029-05-16/
LOCATION:Good News Dallas Church\, 1149 N Plano Rd\, Garland\, Texas\, 75042\, United States
CATEGORIES:Weekly Service
END:VEVENT
BEGIN:VEVENT
DTSTART;TZID=America/Chicago:20290518T190000
DTEND;TZID=America/Chicago:20290518T210000
DTSTAMP:20260422T165033
CREATED:20250308T134104Z
LAST-MODIFIED:20251013T231156Z
UID:10000742-1873825200-1873832400@goodnewsdallas.org
SUMMARY:Mind Education
DESCRIPTION:
URL:https://goodnewsdallas.org/event/mind-education/2029-05-18/
LOCATION:Good News Dallas Church\, 1149 N Plano Rd\, Garland\, Texas\, 75042\, United States
CATEGORIES:Weekly Service
END:VEVENT
BEGIN:VEVENT
DTSTART;TZID=America/Chicago:20290520T100000
DTEND;TZID=America/Chicago:20290520T130000
DTSTAMP:20260422T165033
CREATED:20250212T010015Z
LAST-MODIFIED:20250212T011240Z
UID:10000222-1873965600-1873976400@goodnewsdallas.org
SUMMARY:Sunday Service
DESCRIPTION:
URL:https://goodnewsdallas.org/event/sunday-service/2029-05-20/
LOCATION:Good News Dallas Church\, 1149 N Plano Rd\, Garland\, Texas\, 75042\, United States
CATEGORIES:Weekly Service
END:VEVENT
BEGIN:VEVENT
DTSTART;TZID=America/Chicago:20290523T193000
DTEND;TZID=America/Chicago:20290523T210000
DTSTAMP:20260422T165033
CREATED:20250212T011405Z
LAST-MODIFIED:20250212T011956Z
UID:10000484-1874259000-1874264400@goodnewsdallas.org
SUMMARY:Wednesday Service
DESCRIPTION:
URL:https://goodnewsdallas.org/event/wednesday-service/2029-05-23/
LOCATION:Good News Dallas Church\, 1149 N Plano Rd\, Garland\, Texas\, 75042\, United States
CATEGORIES:Weekly Service
END:VEVENT
BEGIN:VEVENT
DTSTART;TZID=America/Chicago:20290525T190000
DTEND;TZID=America/Chicago:20290525T210000
DTSTAMP:20260422T165033
CREATED:20250308T134104Z
LAST-MODIFIED:20251013T231156Z
UID:10000743-1874430000-1874437200@goodnewsdallas.org
SUMMARY:Mind Education
DESCRIPTION:
URL:https://goodnewsdallas.org/event/mind-education/2029-05-25/
LOCATION:Good News Dallas Church\, 1149 N Plano Rd\, Garland\, Texas\, 75042\, United States
CATEGORIES:Weekly Service
END:VEVENT
BEGIN:VEVENT
DTSTART;TZID=America/Chicago:20290527T100000
DTEND;TZID=America/Chicago:20290527T130000
DTSTAMP:20260422T165033
CREATED:20250212T010015Z
LAST-MODIFIED:20250212T011240Z
UID:10000223-1874570400-1874581200@goodnewsdallas.org
SUMMARY:Sunday Service
DESCRIPTION:
URL:https://goodnewsdallas.org/event/sunday-service/2029-05-27/
LOCATION:Good News Dallas Church\, 1149 N Plano Rd\, Garland\, Texas\, 75042\, United States
CATEGORIES:Weekly Service
END:VEVENT
BEGIN:VEVENT
DTSTART;TZID=America/Chicago:20290530T193000
DTEND;TZID=America/Chicago:20290530T210000
DTSTAMP:20260422T165033
CREATED:20250212T011405Z
LAST-MODIFIED:20250212T011956Z
UID:10000485-1874863800-1874869200@goodnewsdallas.org
SUMMARY:Wednesday Service
DESCRIPTION:
URL:https://goodnewsdallas.org/event/wednesday-service/2029-05-30/
LOCATION:Good News Dallas Church\, 1149 N Plano Rd\, Garland\, Texas\, 75042\, United States
CATEGORIES:Weekly Service
END:VEVENT
BEGIN:VEVENT
DTSTART;TZID=America/Chicago:20290601T190000
DTEND;TZID=America/Chicago:20290601T210000
DTSTAMP:20260422T165033
CREATED:20250308T134104Z
LAST-MODIFIED:20251013T231156Z
UID:10000744-1875034800-1875042000@goodnewsdallas.org
SUMMARY:Mind Education
DESCRIPTION:
URL:https://goodnewsdallas.org/event/mind-education/2029-06-01/
LOCATION:Good News Dallas Church\, 1149 N Plano Rd\, Garland\, Texas\, 75042\, United States
CATEGORIES:Weekly Service
END:VEVENT
BEGIN:VEVENT
DTSTART;TZID=America/Chicago:20290603T100000
DTEND;TZID=America/Chicago:20290603T130000
DTSTAMP:20260422T165033
CREATED:20250212T010015Z
LAST-MODIFIED:20250212T011240Z
UID:10000224-1875175200-1875186000@goodnewsdallas.org
SUMMARY:Sunday Service
DESCRIPTION:
URL:https://goodnewsdallas.org/event/sunday-service/2029-06-03/
LOCATION:Good News Dallas Church\, 1149 N Plano Rd\, Garland\, Texas\, 75042\, United States
CATEGORIES:Weekly Service
END:VEVENT
BEGIN:VEVENT
DTSTART;TZID=America/Chicago:20290606T193000
DTEND;TZID=America/Chicago:20290606T210000
DTSTAMP:20260422T165033
CREATED:20250212T011405Z
LAST-MODIFIED:20250212T011956Z
UID:10000486-1875468600-1875474000@goodnewsdallas.org
SUMMARY:Wednesday Service
DESCRIPTION:
URL:https://goodnewsdallas.org/event/wednesday-service/2029-06-06/
LOCATION:Good News Dallas Church\, 1149 N Plano Rd\, Garland\, Texas\, 75042\, United States
CATEGORIES:Weekly Service
END:VEVENT
END:VCALENDAR