BEGIN:VCALENDAR
VERSION:2.0
PRODID:-//Good News Dallas Church - ECPv6.15.20//NONSGML v1.0//EN
CALSCALE:GREGORIAN
METHOD:PUBLISH
X-WR-CALNAME:Good News Dallas Church
X-ORIGINAL-URL:https://goodnewsdallas.org
X-WR-CALDESC:Events for Good News Dallas Church
REFRESH-INTERVAL;VALUE=DURATION:PT1H
X-Robots-Tag:noindex
X-PUBLISHED-TTL:PT1H
BEGIN:VTIMEZONE
TZID:America/Chicago
BEGIN:DAYLIGHT
TZOFFSETFROM:-0600
TZOFFSETTO:-0500
TZNAME:CDT
DTSTART:20280312T080000
END:DAYLIGHT
BEGIN:STANDARD
TZOFFSETFROM:-0500
TZOFFSETTO:-0600
TZNAME:CST
DTSTART:20281105T070000
END:STANDARD
BEGIN:DAYLIGHT
TZOFFSETFROM:-0600
TZOFFSETTO:-0500
TZNAME:CDT
DTSTART:20290311T080000
END:DAYLIGHT
BEGIN:STANDARD
TZOFFSETFROM:-0500
TZOFFSETTO:-0600
TZNAME:CST
DTSTART:20291104T070000
END:STANDARD
BEGIN:DAYLIGHT
TZOFFSETFROM:-0600
TZOFFSETTO:-0500
TZNAME:CDT
DTSTART:20300310T080000
END:DAYLIGHT
BEGIN:STANDARD
TZOFFSETFROM:-0500
TZOFFSETTO:-0600
TZNAME:CST
DTSTART:20301103T070000
END:STANDARD
END:VTIMEZONE
BEGIN:VEVENT
DTSTART;TZID=America/Chicago:20290817T190000
DTEND;TZID=America/Chicago:20290817T210000
DTSTAMP:20260422T182151
CREATED:20250308T134104Z
LAST-MODIFIED:20251013T231156Z
UID:10000755-1881687600-1881694800@goodnewsdallas.org
SUMMARY:Mind Education
DESCRIPTION:
URL:https://goodnewsdallas.org/event/mind-education/2029-08-17/
LOCATION:Good News Dallas Church\, 1149 N Plano Rd\, Garland\, Texas\, 75042\, United States
CATEGORIES:Weekly Service
END:VEVENT
BEGIN:VEVENT
DTSTART;TZID=America/Chicago:20290819T100000
DTEND;TZID=America/Chicago:20290819T130000
DTSTAMP:20260422T182151
CREATED:20250212T010015Z
LAST-MODIFIED:20250212T011240Z
UID:10000235-1881828000-1881838800@goodnewsdallas.org
SUMMARY:Sunday Service
DESCRIPTION:
URL:https://goodnewsdallas.org/event/sunday-service/2029-08-19/
LOCATION:Good News Dallas Church\, 1149 N Plano Rd\, Garland\, Texas\, 75042\, United States
CATEGORIES:Weekly Service
END:VEVENT
BEGIN:VEVENT
DTSTART;TZID=America/Chicago:20290822T193000
DTEND;TZID=America/Chicago:20290822T210000
DTSTAMP:20260422T182151
CREATED:20250212T011405Z
LAST-MODIFIED:20250212T011956Z
UID:10000497-1882121400-1882126800@goodnewsdallas.org
SUMMARY:Wednesday Service
DESCRIPTION:
URL:https://goodnewsdallas.org/event/wednesday-service/2029-08-22/
LOCATION:Good News Dallas Church\, 1149 N Plano Rd\, Garland\, Texas\, 75042\, United States
CATEGORIES:Weekly Service
END:VEVENT
BEGIN:VEVENT
DTSTART;TZID=America/Chicago:20290824T190000
DTEND;TZID=America/Chicago:20290824T210000
DTSTAMP:20260422T182151
CREATED:20250308T134104Z
LAST-MODIFIED:20251013T231156Z
UID:10000756-1882292400-1882299600@goodnewsdallas.org
SUMMARY:Mind Education
DESCRIPTION:
URL:https://goodnewsdallas.org/event/mind-education/2029-08-24/
LOCATION:Good News Dallas Church\, 1149 N Plano Rd\, Garland\, Texas\, 75042\, United States
CATEGORIES:Weekly Service
END:VEVENT
BEGIN:VEVENT
DTSTART;TZID=America/Chicago:20290826T100000
DTEND;TZID=America/Chicago:20290826T130000
DTSTAMP:20260422T182151
CREATED:20250212T010015Z
LAST-MODIFIED:20250212T011240Z
UID:10000236-1882432800-1882443600@goodnewsdallas.org
SUMMARY:Sunday Service
DESCRIPTION:
URL:https://goodnewsdallas.org/event/sunday-service/2029-08-26/
LOCATION:Good News Dallas Church\, 1149 N Plano Rd\, Garland\, Texas\, 75042\, United States
CATEGORIES:Weekly Service
END:VEVENT
BEGIN:VEVENT
DTSTART;TZID=America/Chicago:20290829T193000
DTEND;TZID=America/Chicago:20290829T210000
DTSTAMP:20260422T182151
CREATED:20250212T011405Z
LAST-MODIFIED:20250212T011956Z
UID:10000498-1882726200-1882731600@goodnewsdallas.org
SUMMARY:Wednesday Service
DESCRIPTION:
URL:https://goodnewsdallas.org/event/wednesday-service/2029-08-29/
LOCATION:Good News Dallas Church\, 1149 N Plano Rd\, Garland\, Texas\, 75042\, United States
CATEGORIES:Weekly Service
END:VEVENT
BEGIN:VEVENT
DTSTART;TZID=America/Chicago:20290831T190000
DTEND;TZID=America/Chicago:20290831T210000
DTSTAMP:20260422T182151
CREATED:20250308T134104Z
LAST-MODIFIED:20251013T231156Z
UID:10000757-1882897200-1882904400@goodnewsdallas.org
SUMMARY:Mind Education
DESCRIPTION:
URL:https://goodnewsdallas.org/event/mind-education/2029-08-31/
LOCATION:Good News Dallas Church\, 1149 N Plano Rd\, Garland\, Texas\, 75042\, United States
CATEGORIES:Weekly Service
END:VEVENT
BEGIN:VEVENT
DTSTART;TZID=America/Chicago:20290902T100000
DTEND;TZID=America/Chicago:20290902T130000
DTSTAMP:20260422T182151
CREATED:20250212T010015Z
LAST-MODIFIED:20250212T011240Z
UID:10000237-1883037600-1883048400@goodnewsdallas.org
SUMMARY:Sunday Service
DESCRIPTION:
URL:https://goodnewsdallas.org/event/sunday-service/2029-09-02/
LOCATION:Good News Dallas Church\, 1149 N Plano Rd\, Garland\, Texas\, 75042\, United States
CATEGORIES:Weekly Service
END:VEVENT
BEGIN:VEVENT
DTSTART;TZID=America/Chicago:20290905T193000
DTEND;TZID=America/Chicago:20290905T210000
DTSTAMP:20260422T182151
CREATED:20250212T011405Z
LAST-MODIFIED:20250212T011956Z
UID:10000499-1883331000-1883336400@goodnewsdallas.org
SUMMARY:Wednesday Service
DESCRIPTION:
URL:https://goodnewsdallas.org/event/wednesday-service/2029-09-05/
LOCATION:Good News Dallas Church\, 1149 N Plano Rd\, Garland\, Texas\, 75042\, United States
CATEGORIES:Weekly Service
END:VEVENT
BEGIN:VEVENT
DTSTART;TZID=America/Chicago:20290907T190000
DTEND;TZID=America/Chicago:20290907T210000
DTSTAMP:20260422T182151
CREATED:20250308T134104Z
LAST-MODIFIED:20251013T231156Z
UID:10000758-1883502000-1883509200@goodnewsdallas.org
SUMMARY:Mind Education
DESCRIPTION:
URL:https://goodnewsdallas.org/event/mind-education/2029-09-07/
LOCATION:Good News Dallas Church\, 1149 N Plano Rd\, Garland\, Texas\, 75042\, United States
CATEGORIES:Weekly Service
END:VEVENT
BEGIN:VEVENT
DTSTART;TZID=America/Chicago:20290909T100000
DTEND;TZID=America/Chicago:20290909T130000
DTSTAMP:20260422T182151
CREATED:20250212T010015Z
LAST-MODIFIED:20250212T011240Z
UID:10000238-1883642400-1883653200@goodnewsdallas.org
SUMMARY:Sunday Service
DESCRIPTION:
URL:https://goodnewsdallas.org/event/sunday-service/2029-09-09/
LOCATION:Good News Dallas Church\, 1149 N Plano Rd\, Garland\, Texas\, 75042\, United States
CATEGORIES:Weekly Service
END:VEVENT
BEGIN:VEVENT
DTSTART;TZID=America/Chicago:20290912T193000
DTEND;TZID=America/Chicago:20290912T210000
DTSTAMP:20260422T182151
CREATED:20250212T011405Z
LAST-MODIFIED:20250212T011956Z
UID:10000500-1883935800-1883941200@goodnewsdallas.org
SUMMARY:Wednesday Service
DESCRIPTION:
URL:https://goodnewsdallas.org/event/wednesday-service/2029-09-12/
LOCATION:Good News Dallas Church\, 1149 N Plano Rd\, Garland\, Texas\, 75042\, United States
CATEGORIES:Weekly Service
END:VEVENT
BEGIN:VEVENT
DTSTART;TZID=America/Chicago:20290914T190000
DTEND;TZID=America/Chicago:20290914T210000
DTSTAMP:20260422T182151
CREATED:20250308T134104Z
LAST-MODIFIED:20251013T231156Z
UID:10000759-1884106800-1884114000@goodnewsdallas.org
SUMMARY:Mind Education
DESCRIPTION:
URL:https://goodnewsdallas.org/event/mind-education/2029-09-14/
LOCATION:Good News Dallas Church\, 1149 N Plano Rd\, Garland\, Texas\, 75042\, United States
CATEGORIES:Weekly Service
END:VEVENT
BEGIN:VEVENT
DTSTART;TZID=America/Chicago:20290916T100000
DTEND;TZID=America/Chicago:20290916T130000
DTSTAMP:20260422T182151
CREATED:20250212T010015Z
LAST-MODIFIED:20250212T011240Z
UID:10000239-1884247200-1884258000@goodnewsdallas.org
SUMMARY:Sunday Service
DESCRIPTION:
URL:https://goodnewsdallas.org/event/sunday-service/2029-09-16/
LOCATION:Good News Dallas Church\, 1149 N Plano Rd\, Garland\, Texas\, 75042\, United States
CATEGORIES:Weekly Service
END:VEVENT
BEGIN:VEVENT
DTSTART;TZID=America/Chicago:20290919T193000
DTEND;TZID=America/Chicago:20290919T210000
DTSTAMP:20260422T182151
CREATED:20250212T011405Z
LAST-MODIFIED:20250212T011956Z
UID:10000501-1884540600-1884546000@goodnewsdallas.org
SUMMARY:Wednesday Service
DESCRIPTION:
URL:https://goodnewsdallas.org/event/wednesday-service/2029-09-19/
LOCATION:Good News Dallas Church\, 1149 N Plano Rd\, Garland\, Texas\, 75042\, United States
CATEGORIES:Weekly Service
END:VEVENT
BEGIN:VEVENT
DTSTART;TZID=America/Chicago:20290921T190000
DTEND;TZID=America/Chicago:20290921T210000
DTSTAMP:20260422T182151
CREATED:20250308T134104Z
LAST-MODIFIED:20251013T231156Z
UID:10000760-1884711600-1884718800@goodnewsdallas.org
SUMMARY:Mind Education
DESCRIPTION:
URL:https://goodnewsdallas.org/event/mind-education/2029-09-21/
LOCATION:Good News Dallas Church\, 1149 N Plano Rd\, Garland\, Texas\, 75042\, United States
CATEGORIES:Weekly Service
END:VEVENT
BEGIN:VEVENT
DTSTART;TZID=America/Chicago:20290923T100000
DTEND;TZID=America/Chicago:20290923T130000
DTSTAMP:20260422T182151
CREATED:20250212T010015Z
LAST-MODIFIED:20250212T011240Z
UID:10000240-1884852000-1884862800@goodnewsdallas.org
SUMMARY:Sunday Service
DESCRIPTION:
URL:https://goodnewsdallas.org/event/sunday-service/2029-09-23/
LOCATION:Good News Dallas Church\, 1149 N Plano Rd\, Garland\, Texas\, 75042\, United States
CATEGORIES:Weekly Service
END:VEVENT
BEGIN:VEVENT
DTSTART;TZID=America/Chicago:20290926T193000
DTEND;TZID=America/Chicago:20290926T210000
DTSTAMP:20260422T182151
CREATED:20250212T011405Z
LAST-MODIFIED:20250212T011956Z
UID:10000502-1885145400-1885150800@goodnewsdallas.org
SUMMARY:Wednesday Service
DESCRIPTION:
URL:https://goodnewsdallas.org/event/wednesday-service/2029-09-26/
LOCATION:Good News Dallas Church\, 1149 N Plano Rd\, Garland\, Texas\, 75042\, United States
CATEGORIES:Weekly Service
END:VEVENT
BEGIN:VEVENT
DTSTART;TZID=America/Chicago:20290928T190000
DTEND;TZID=America/Chicago:20290928T210000
DTSTAMP:20260422T182151
CREATED:20250308T134104Z
LAST-MODIFIED:20251013T231156Z
UID:10000761-1885316400-1885323600@goodnewsdallas.org
SUMMARY:Mind Education
DESCRIPTION:
URL:https://goodnewsdallas.org/event/mind-education/2029-09-28/
LOCATION:Good News Dallas Church\, 1149 N Plano Rd\, Garland\, Texas\, 75042\, United States
CATEGORIES:Weekly Service
END:VEVENT
BEGIN:VEVENT
DTSTART;TZID=America/Chicago:20290930T100000
DTEND;TZID=America/Chicago:20290930T130000
DTSTAMP:20260422T182151
CREATED:20250212T010015Z
LAST-MODIFIED:20250212T011240Z
UID:10000241-1885456800-1885467600@goodnewsdallas.org
SUMMARY:Sunday Service
DESCRIPTION:
URL:https://goodnewsdallas.org/event/sunday-service/2029-09-30/
LOCATION:Good News Dallas Church\, 1149 N Plano Rd\, Garland\, Texas\, 75042\, United States
CATEGORIES:Weekly Service
END:VEVENT
BEGIN:VEVENT
DTSTART;TZID=America/Chicago:20291003T193000
DTEND;TZID=America/Chicago:20291003T210000
DTSTAMP:20260422T182151
CREATED:20250212T011405Z
LAST-MODIFIED:20250212T011956Z
UID:10000503-1885750200-1885755600@goodnewsdallas.org
SUMMARY:Wednesday Service
DESCRIPTION:
URL:https://goodnewsdallas.org/event/wednesday-service/2029-10-03/
LOCATION:Good News Dallas Church\, 1149 N Plano Rd\, Garland\, Texas\, 75042\, United States
CATEGORIES:Weekly Service
END:VEVENT
BEGIN:VEVENT
DTSTART;TZID=America/Chicago:20291005T190000
DTEND;TZID=America/Chicago:20291005T210000
DTSTAMP:20260422T182151
CREATED:20250308T134104Z
LAST-MODIFIED:20251013T231156Z
UID:10000762-1885921200-1885928400@goodnewsdallas.org
SUMMARY:Mind Education
DESCRIPTION:
URL:https://goodnewsdallas.org/event/mind-education/2029-10-05/
LOCATION:Good News Dallas Church\, 1149 N Plano Rd\, Garland\, Texas\, 75042\, United States
CATEGORIES:Weekly Service
END:VEVENT
BEGIN:VEVENT
DTSTART;TZID=America/Chicago:20291007T100000
DTEND;TZID=America/Chicago:20291007T130000
DTSTAMP:20260422T182151
CREATED:20250212T010015Z
LAST-MODIFIED:20250212T011240Z
UID:10000242-1886061600-1886072400@goodnewsdallas.org
SUMMARY:Sunday Service
DESCRIPTION:
URL:https://goodnewsdallas.org/event/sunday-service/2029-10-07/
LOCATION:Good News Dallas Church\, 1149 N Plano Rd\, Garland\, Texas\, 75042\, United States
CATEGORIES:Weekly Service
END:VEVENT
BEGIN:VEVENT
DTSTART;TZID=America/Chicago:20291010T193000
DTEND;TZID=America/Chicago:20291010T210000
DTSTAMP:20260422T182151
CREATED:20250212T011405Z
LAST-MODIFIED:20250212T011956Z
UID:10000504-1886355000-1886360400@goodnewsdallas.org
SUMMARY:Wednesday Service
DESCRIPTION:
URL:https://goodnewsdallas.org/event/wednesday-service/2029-10-10/
LOCATION:Good News Dallas Church\, 1149 N Plano Rd\, Garland\, Texas\, 75042\, United States
CATEGORIES:Weekly Service
END:VEVENT
BEGIN:VEVENT
DTSTART;TZID=America/Chicago:20291012T190000
DTEND;TZID=America/Chicago:20291012T210000
DTSTAMP:20260422T182151
CREATED:20250308T134104Z
LAST-MODIFIED:20251013T231156Z
UID:10000763-1886526000-1886533200@goodnewsdallas.org
SUMMARY:Mind Education
DESCRIPTION:
URL:https://goodnewsdallas.org/event/mind-education/2029-10-12/
LOCATION:Good News Dallas Church\, 1149 N Plano Rd\, Garland\, Texas\, 75042\, United States
CATEGORIES:Weekly Service
END:VEVENT
BEGIN:VEVENT
DTSTART;TZID=America/Chicago:20291014T100000
DTEND;TZID=America/Chicago:20291014T130000
DTSTAMP:20260422T182151
CREATED:20250212T010015Z
LAST-MODIFIED:20250212T011240Z
UID:10000243-1886666400-1886677200@goodnewsdallas.org
SUMMARY:Sunday Service
DESCRIPTION:
URL:https://goodnewsdallas.org/event/sunday-service/2029-10-14/
LOCATION:Good News Dallas Church\, 1149 N Plano Rd\, Garland\, Texas\, 75042\, United States
CATEGORIES:Weekly Service
END:VEVENT
BEGIN:VEVENT
DTSTART;TZID=America/Chicago:20291017T193000
DTEND;TZID=America/Chicago:20291017T210000
DTSTAMP:20260422T182151
CREATED:20250212T011405Z
LAST-MODIFIED:20250212T011956Z
UID:10000505-1886959800-1886965200@goodnewsdallas.org
SUMMARY:Wednesday Service
DESCRIPTION:
URL:https://goodnewsdallas.org/event/wednesday-service/2029-10-17/
LOCATION:Good News Dallas Church\, 1149 N Plano Rd\, Garland\, Texas\, 75042\, United States
CATEGORIES:Weekly Service
END:VEVENT
BEGIN:VEVENT
DTSTART;TZID=America/Chicago:20291019T190000
DTEND;TZID=America/Chicago:20291019T210000
DTSTAMP:20260422T182151
CREATED:20250308T134104Z
LAST-MODIFIED:20251013T231156Z
UID:10000764-1887130800-1887138000@goodnewsdallas.org
SUMMARY:Mind Education
DESCRIPTION:
URL:https://goodnewsdallas.org/event/mind-education/2029-10-19/
LOCATION:Good News Dallas Church\, 1149 N Plano Rd\, Garland\, Texas\, 75042\, United States
CATEGORIES:Weekly Service
END:VEVENT
BEGIN:VEVENT
DTSTART;TZID=America/Chicago:20291021T100000
DTEND;TZID=America/Chicago:20291021T130000
DTSTAMP:20260422T182151
CREATED:20250212T010015Z
LAST-MODIFIED:20250212T011240Z
UID:10000244-1887271200-1887282000@goodnewsdallas.org
SUMMARY:Sunday Service
DESCRIPTION:
URL:https://goodnewsdallas.org/event/sunday-service/2029-10-21/
LOCATION:Good News Dallas Church\, 1149 N Plano Rd\, Garland\, Texas\, 75042\, United States
CATEGORIES:Weekly Service
END:VEVENT
BEGIN:VEVENT
DTSTART;TZID=America/Chicago:20291024T193000
DTEND;TZID=America/Chicago:20291024T210000
DTSTAMP:20260422T182151
CREATED:20250212T011405Z
LAST-MODIFIED:20250212T011956Z
UID:10000506-1887564600-1887570000@goodnewsdallas.org
SUMMARY:Wednesday Service
DESCRIPTION:
URL:https://goodnewsdallas.org/event/wednesday-service/2029-10-24/
LOCATION:Good News Dallas Church\, 1149 N Plano Rd\, Garland\, Texas\, 75042\, United States
CATEGORIES:Weekly Service
END:VEVENT
END:VCALENDAR