BEGIN:VCALENDAR
VERSION:2.0
PRODID:-//Good News Dallas Church - ECPv6.15.20//NONSGML v1.0//EN
CALSCALE:GREGORIAN
METHOD:PUBLISH
X-ORIGINAL-URL:https://goodnewsdallas.org
X-WR-CALDESC:Events for Good News Dallas Church
REFRESH-INTERVAL;VALUE=DURATION:PT1H
X-Robots-Tag:noindex
X-PUBLISHED-TTL:PT1H
BEGIN:VTIMEZONE
TZID:America/Chicago
BEGIN:DAYLIGHT
TZOFFSETFROM:-0600
TZOFFSETTO:-0500
TZNAME:CDT
DTSTART:20280312T080000
END:DAYLIGHT
BEGIN:STANDARD
TZOFFSETFROM:-0500
TZOFFSETTO:-0600
TZNAME:CST
DTSTART:20281105T070000
END:STANDARD
BEGIN:DAYLIGHT
TZOFFSETFROM:-0600
TZOFFSETTO:-0500
TZNAME:CDT
DTSTART:20290311T080000
END:DAYLIGHT
BEGIN:STANDARD
TZOFFSETFROM:-0500
TZOFFSETTO:-0600
TZNAME:CST
DTSTART:20291104T070000
END:STANDARD
BEGIN:DAYLIGHT
TZOFFSETFROM:-0600
TZOFFSETTO:-0500
TZNAME:CDT
DTSTART:20300310T080000
END:DAYLIGHT
BEGIN:STANDARD
TZOFFSETFROM:-0500
TZOFFSETTO:-0600
TZNAME:CST
DTSTART:20301103T070000
END:STANDARD
END:VTIMEZONE
BEGIN:VEVENT
DTSTART;TZID=America/Chicago:20291012T190000
DTEND;TZID=America/Chicago:20291012T210000
DTSTAMP:20260422T214917
CREATED:20250308T134104Z
LAST-MODIFIED:20251013T231156Z
UID:10000763-1886526000-1886533200@goodnewsdallas.org
SUMMARY:Mind Education
DESCRIPTION:
URL:https://goodnewsdallas.org/event/mind-education/2029-10-12/
LOCATION:Good News Dallas Church\, 1149 N Plano Rd\, Garland\, Texas\, 75042\, United States
CATEGORIES:Weekly Service
END:VEVENT
BEGIN:VEVENT
DTSTART;TZID=America/Chicago:20291014T100000
DTEND;TZID=America/Chicago:20291014T130000
DTSTAMP:20260422T214917
CREATED:20250212T010015Z
LAST-MODIFIED:20250212T011240Z
UID:10000243-1886666400-1886677200@goodnewsdallas.org
SUMMARY:Sunday Service
DESCRIPTION:
URL:https://goodnewsdallas.org/event/sunday-service/2029-10-14/
LOCATION:Good News Dallas Church\, 1149 N Plano Rd\, Garland\, Texas\, 75042\, United States
CATEGORIES:Weekly Service
END:VEVENT
BEGIN:VEVENT
DTSTART;TZID=America/Chicago:20291017T193000
DTEND;TZID=America/Chicago:20291017T210000
DTSTAMP:20260422T214917
CREATED:20250212T011405Z
LAST-MODIFIED:20250212T011956Z
UID:10000505-1886959800-1886965200@goodnewsdallas.org
SUMMARY:Wednesday Service
DESCRIPTION:
URL:https://goodnewsdallas.org/event/wednesday-service/2029-10-17/
LOCATION:Good News Dallas Church\, 1149 N Plano Rd\, Garland\, Texas\, 75042\, United States
CATEGORIES:Weekly Service
END:VEVENT
BEGIN:VEVENT
DTSTART;TZID=America/Chicago:20291019T190000
DTEND;TZID=America/Chicago:20291019T210000
DTSTAMP:20260422T214917
CREATED:20250308T134104Z
LAST-MODIFIED:20251013T231156Z
UID:10000764-1887130800-1887138000@goodnewsdallas.org
SUMMARY:Mind Education
DESCRIPTION:
URL:https://goodnewsdallas.org/event/mind-education/2029-10-19/
LOCATION:Good News Dallas Church\, 1149 N Plano Rd\, Garland\, Texas\, 75042\, United States
CATEGORIES:Weekly Service
END:VEVENT
BEGIN:VEVENT
DTSTART;TZID=America/Chicago:20291021T100000
DTEND;TZID=America/Chicago:20291021T130000
DTSTAMP:20260422T214917
CREATED:20250212T010015Z
LAST-MODIFIED:20250212T011240Z
UID:10000244-1887271200-1887282000@goodnewsdallas.org
SUMMARY:Sunday Service
DESCRIPTION:
URL:https://goodnewsdallas.org/event/sunday-service/2029-10-21/
LOCATION:Good News Dallas Church\, 1149 N Plano Rd\, Garland\, Texas\, 75042\, United States
CATEGORIES:Weekly Service
END:VEVENT
BEGIN:VEVENT
DTSTART;TZID=America/Chicago:20291024T193000
DTEND;TZID=America/Chicago:20291024T210000
DTSTAMP:20260422T214917
CREATED:20250212T011405Z
LAST-MODIFIED:20250212T011956Z
UID:10000506-1887564600-1887570000@goodnewsdallas.org
SUMMARY:Wednesday Service
DESCRIPTION:
URL:https://goodnewsdallas.org/event/wednesday-service/2029-10-24/
LOCATION:Good News Dallas Church\, 1149 N Plano Rd\, Garland\, Texas\, 75042\, United States
CATEGORIES:Weekly Service
END:VEVENT
BEGIN:VEVENT
DTSTART;TZID=America/Chicago:20291026T190000
DTEND;TZID=America/Chicago:20291026T210000
DTSTAMP:20260422T214917
CREATED:20250308T134104Z
LAST-MODIFIED:20251013T231156Z
UID:10000765-1887735600-1887742800@goodnewsdallas.org
SUMMARY:Mind Education
DESCRIPTION:
URL:https://goodnewsdallas.org/event/mind-education/2029-10-26/
LOCATION:Good News Dallas Church\, 1149 N Plano Rd\, Garland\, Texas\, 75042\, United States
CATEGORIES:Weekly Service
END:VEVENT
BEGIN:VEVENT
DTSTART;TZID=America/Chicago:20291028T100000
DTEND;TZID=America/Chicago:20291028T130000
DTSTAMP:20260422T214917
CREATED:20250212T010015Z
LAST-MODIFIED:20250212T011240Z
UID:10000245-1887876000-1887886800@goodnewsdallas.org
SUMMARY:Sunday Service
DESCRIPTION:
URL:https://goodnewsdallas.org/event/sunday-service/2029-10-28/
LOCATION:Good News Dallas Church\, 1149 N Plano Rd\, Garland\, Texas\, 75042\, United States
CATEGORIES:Weekly Service
END:VEVENT
BEGIN:VEVENT
DTSTART;TZID=America/Chicago:20291031T193000
DTEND;TZID=America/Chicago:20291031T210000
DTSTAMP:20260422T214917
CREATED:20250212T011405Z
LAST-MODIFIED:20250212T011956Z
UID:10000507-1888169400-1888174800@goodnewsdallas.org
SUMMARY:Wednesday Service
DESCRIPTION:
URL:https://goodnewsdallas.org/event/wednesday-service/2029-10-31/
LOCATION:Good News Dallas Church\, 1149 N Plano Rd\, Garland\, Texas\, 75042\, United States
CATEGORIES:Weekly Service
END:VEVENT
BEGIN:VEVENT
DTSTART;TZID=America/Chicago:20291102T190000
DTEND;TZID=America/Chicago:20291102T210000
DTSTAMP:20260422T214917
CREATED:20250308T134104Z
LAST-MODIFIED:20251013T231156Z
UID:10000766-1888340400-1888347600@goodnewsdallas.org
SUMMARY:Mind Education
DESCRIPTION:
URL:https://goodnewsdallas.org/event/mind-education/2029-11-02/
LOCATION:Good News Dallas Church\, 1149 N Plano Rd\, Garland\, Texas\, 75042\, United States
CATEGORIES:Weekly Service
END:VEVENT
BEGIN:VEVENT
DTSTART;TZID=America/Chicago:20291104T100000
DTEND;TZID=America/Chicago:20291104T130000
DTSTAMP:20260422T214917
CREATED:20250212T010015Z
LAST-MODIFIED:20250212T011240Z
UID:10000246-1888480800-1888491600@goodnewsdallas.org
SUMMARY:Sunday Service
DESCRIPTION:
URL:https://goodnewsdallas.org/event/sunday-service/2029-11-04/
LOCATION:Good News Dallas Church\, 1149 N Plano Rd\, Garland\, Texas\, 75042\, United States
CATEGORIES:Weekly Service
END:VEVENT
BEGIN:VEVENT
DTSTART;TZID=America/Chicago:20291107T193000
DTEND;TZID=America/Chicago:20291107T210000
DTSTAMP:20260422T214917
CREATED:20250212T011405Z
LAST-MODIFIED:20250212T011956Z
UID:10000508-1888774200-1888779600@goodnewsdallas.org
SUMMARY:Wednesday Service
DESCRIPTION:
URL:https://goodnewsdallas.org/event/wednesday-service/2029-11-07/
LOCATION:Good News Dallas Church\, 1149 N Plano Rd\, Garland\, Texas\, 75042\, United States
CATEGORIES:Weekly Service
END:VEVENT
BEGIN:VEVENT
DTSTART;TZID=America/Chicago:20291109T190000
DTEND;TZID=America/Chicago:20291109T210000
DTSTAMP:20260422T214917
CREATED:20250308T134104Z
LAST-MODIFIED:20251013T231156Z
UID:10000767-1888945200-1888952400@goodnewsdallas.org
SUMMARY:Mind Education
DESCRIPTION:
URL:https://goodnewsdallas.org/event/mind-education/2029-11-09/
LOCATION:Good News Dallas Church\, 1149 N Plano Rd\, Garland\, Texas\, 75042\, United States
CATEGORIES:Weekly Service
END:VEVENT
BEGIN:VEVENT
DTSTART;TZID=America/Chicago:20291111T100000
DTEND;TZID=America/Chicago:20291111T130000
DTSTAMP:20260422T214917
CREATED:20250212T010015Z
LAST-MODIFIED:20250212T011240Z
UID:10000247-1889085600-1889096400@goodnewsdallas.org
SUMMARY:Sunday Service
DESCRIPTION:
URL:https://goodnewsdallas.org/event/sunday-service/2029-11-11/
LOCATION:Good News Dallas Church\, 1149 N Plano Rd\, Garland\, Texas\, 75042\, United States
CATEGORIES:Weekly Service
END:VEVENT
BEGIN:VEVENT
DTSTART;TZID=America/Chicago:20291114T193000
DTEND;TZID=America/Chicago:20291114T210000
DTSTAMP:20260422T214917
CREATED:20250212T011405Z
LAST-MODIFIED:20250212T011956Z
UID:10000509-1889379000-1889384400@goodnewsdallas.org
SUMMARY:Wednesday Service
DESCRIPTION:
URL:https://goodnewsdallas.org/event/wednesday-service/2029-11-14/
LOCATION:Good News Dallas Church\, 1149 N Plano Rd\, Garland\, Texas\, 75042\, United States
CATEGORIES:Weekly Service
END:VEVENT
BEGIN:VEVENT
DTSTART;TZID=America/Chicago:20291116T190000
DTEND;TZID=America/Chicago:20291116T210000
DTSTAMP:20260422T214917
CREATED:20250308T134104Z
LAST-MODIFIED:20251013T231156Z
UID:10000768-1889550000-1889557200@goodnewsdallas.org
SUMMARY:Mind Education
DESCRIPTION:
URL:https://goodnewsdallas.org/event/mind-education/2029-11-16/
LOCATION:Good News Dallas Church\, 1149 N Plano Rd\, Garland\, Texas\, 75042\, United States
CATEGORIES:Weekly Service
END:VEVENT
BEGIN:VEVENT
DTSTART;TZID=America/Chicago:20291118T100000
DTEND;TZID=America/Chicago:20291118T130000
DTSTAMP:20260422T214917
CREATED:20250212T010015Z
LAST-MODIFIED:20250212T011240Z
UID:10000248-1889690400-1889701200@goodnewsdallas.org
SUMMARY:Sunday Service
DESCRIPTION:
URL:https://goodnewsdallas.org/event/sunday-service/2029-11-18/
LOCATION:Good News Dallas Church\, 1149 N Plano Rd\, Garland\, Texas\, 75042\, United States
CATEGORIES:Weekly Service
END:VEVENT
BEGIN:VEVENT
DTSTART;TZID=America/Chicago:20291121T193000
DTEND;TZID=America/Chicago:20291121T210000
DTSTAMP:20260422T214917
CREATED:20250212T011405Z
LAST-MODIFIED:20250212T011956Z
UID:10000510-1889983800-1889989200@goodnewsdallas.org
SUMMARY:Wednesday Service
DESCRIPTION:
URL:https://goodnewsdallas.org/event/wednesday-service/2029-11-21/
LOCATION:Good News Dallas Church\, 1149 N Plano Rd\, Garland\, Texas\, 75042\, United States
CATEGORIES:Weekly Service
END:VEVENT
BEGIN:VEVENT
DTSTART;TZID=America/Chicago:20291123T190000
DTEND;TZID=America/Chicago:20291123T210000
DTSTAMP:20260422T214917
CREATED:20250308T134104Z
LAST-MODIFIED:20251013T231156Z
UID:10000769-1890154800-1890162000@goodnewsdallas.org
SUMMARY:Mind Education
DESCRIPTION:
URL:https://goodnewsdallas.org/event/mind-education/2029-11-23/
LOCATION:Good News Dallas Church\, 1149 N Plano Rd\, Garland\, Texas\, 75042\, United States
CATEGORIES:Weekly Service
END:VEVENT
BEGIN:VEVENT
DTSTART;TZID=America/Chicago:20291125T100000
DTEND;TZID=America/Chicago:20291125T130000
DTSTAMP:20260422T214917
CREATED:20250212T010015Z
LAST-MODIFIED:20250212T011240Z
UID:10000249-1890295200-1890306000@goodnewsdallas.org
SUMMARY:Sunday Service
DESCRIPTION:
URL:https://goodnewsdallas.org/event/sunday-service/2029-11-25/
LOCATION:Good News Dallas Church\, 1149 N Plano Rd\, Garland\, Texas\, 75042\, United States
CATEGORIES:Weekly Service
END:VEVENT
BEGIN:VEVENT
DTSTART;TZID=America/Chicago:20291128T193000
DTEND;TZID=America/Chicago:20291128T210000
DTSTAMP:20260422T214917
CREATED:20250212T011405Z
LAST-MODIFIED:20250212T011956Z
UID:10000511-1890588600-1890594000@goodnewsdallas.org
SUMMARY:Wednesday Service
DESCRIPTION:
URL:https://goodnewsdallas.org/event/wednesday-service/2029-11-28/
LOCATION:Good News Dallas Church\, 1149 N Plano Rd\, Garland\, Texas\, 75042\, United States
CATEGORIES:Weekly Service
END:VEVENT
BEGIN:VEVENT
DTSTART;TZID=America/Chicago:20291130T190000
DTEND;TZID=America/Chicago:20291130T210000
DTSTAMP:20260422T214917
CREATED:20250308T134104Z
LAST-MODIFIED:20251013T231156Z
UID:10000770-1890759600-1890766800@goodnewsdallas.org
SUMMARY:Mind Education
DESCRIPTION:
URL:https://goodnewsdallas.org/event/mind-education/2029-11-30/
LOCATION:Good News Dallas Church\, 1149 N Plano Rd\, Garland\, Texas\, 75042\, United States
CATEGORIES:Weekly Service
END:VEVENT
BEGIN:VEVENT
DTSTART;TZID=America/Chicago:20291202T100000
DTEND;TZID=America/Chicago:20291202T130000
DTSTAMP:20260422T214917
CREATED:20250212T010015Z
LAST-MODIFIED:20250212T011240Z
UID:10000250-1890900000-1890910800@goodnewsdallas.org
SUMMARY:Sunday Service
DESCRIPTION:
URL:https://goodnewsdallas.org/event/sunday-service/2029-12-02/
LOCATION:Good News Dallas Church\, 1149 N Plano Rd\, Garland\, Texas\, 75042\, United States
CATEGORIES:Weekly Service
END:VEVENT
BEGIN:VEVENT
DTSTART;TZID=America/Chicago:20291205T193000
DTEND;TZID=America/Chicago:20291205T210000
DTSTAMP:20260422T214917
CREATED:20250212T011405Z
LAST-MODIFIED:20250212T011956Z
UID:10000512-1891193400-1891198800@goodnewsdallas.org
SUMMARY:Wednesday Service
DESCRIPTION:
URL:https://goodnewsdallas.org/event/wednesday-service/2029-12-05/
LOCATION:Good News Dallas Church\, 1149 N Plano Rd\, Garland\, Texas\, 75042\, United States
CATEGORIES:Weekly Service
END:VEVENT
BEGIN:VEVENT
DTSTART;TZID=America/Chicago:20291207T190000
DTEND;TZID=America/Chicago:20291207T210000
DTSTAMP:20260422T214917
CREATED:20250308T134104Z
LAST-MODIFIED:20251013T231156Z
UID:10000771-1891364400-1891371600@goodnewsdallas.org
SUMMARY:Mind Education
DESCRIPTION:
URL:https://goodnewsdallas.org/event/mind-education/2029-12-07/
LOCATION:Good News Dallas Church\, 1149 N Plano Rd\, Garland\, Texas\, 75042\, United States
CATEGORIES:Weekly Service
END:VEVENT
BEGIN:VEVENT
DTSTART;TZID=America/Chicago:20291209T100000
DTEND;TZID=America/Chicago:20291209T130000
DTSTAMP:20260422T214917
CREATED:20250212T010015Z
LAST-MODIFIED:20250212T011240Z
UID:10000251-1891504800-1891515600@goodnewsdallas.org
SUMMARY:Sunday Service
DESCRIPTION:
URL:https://goodnewsdallas.org/event/sunday-service/2029-12-09/
LOCATION:Good News Dallas Church\, 1149 N Plano Rd\, Garland\, Texas\, 75042\, United States
CATEGORIES:Weekly Service
END:VEVENT
BEGIN:VEVENT
DTSTART;TZID=America/Chicago:20291212T193000
DTEND;TZID=America/Chicago:20291212T210000
DTSTAMP:20260422T214917
CREATED:20250212T011405Z
LAST-MODIFIED:20250212T011956Z
UID:10000513-1891798200-1891803600@goodnewsdallas.org
SUMMARY:Wednesday Service
DESCRIPTION:
URL:https://goodnewsdallas.org/event/wednesday-service/2029-12-12/
LOCATION:Good News Dallas Church\, 1149 N Plano Rd\, Garland\, Texas\, 75042\, United States
CATEGORIES:Weekly Service
END:VEVENT
BEGIN:VEVENT
DTSTART;TZID=America/Chicago:20291214T190000
DTEND;TZID=America/Chicago:20291214T210000
DTSTAMP:20260422T214917
CREATED:20250308T134104Z
LAST-MODIFIED:20251013T231156Z
UID:10000772-1891969200-1891976400@goodnewsdallas.org
SUMMARY:Mind Education
DESCRIPTION:
URL:https://goodnewsdallas.org/event/mind-education/2029-12-14/
LOCATION:Good News Dallas Church\, 1149 N Plano Rd\, Garland\, Texas\, 75042\, United States
CATEGORIES:Weekly Service
END:VEVENT
BEGIN:VEVENT
DTSTART;TZID=America/Chicago:20291216T100000
DTEND;TZID=America/Chicago:20291216T130000
DTSTAMP:20260422T214917
CREATED:20250212T010015Z
LAST-MODIFIED:20250212T011240Z
UID:10000252-1892109600-1892120400@goodnewsdallas.org
SUMMARY:Sunday Service
DESCRIPTION:
URL:https://goodnewsdallas.org/event/sunday-service/2029-12-16/
LOCATION:Good News Dallas Church\, 1149 N Plano Rd\, Garland\, Texas\, 75042\, United States
CATEGORIES:Weekly Service
END:VEVENT
BEGIN:VEVENT
DTSTART;TZID=America/Chicago:20291219T193000
DTEND;TZID=America/Chicago:20291219T210000
DTSTAMP:20260422T214917
CREATED:20250212T011405Z
LAST-MODIFIED:20250212T011956Z
UID:10000514-1892403000-1892408400@goodnewsdallas.org
SUMMARY:Wednesday Service
DESCRIPTION:
URL:https://goodnewsdallas.org/event/wednesday-service/2029-12-19/
LOCATION:Good News Dallas Church\, 1149 N Plano Rd\, Garland\, Texas\, 75042\, United States
CATEGORIES:Weekly Service
END:VEVENT
END:VCALENDAR