BEGIN:VCALENDAR
VERSION:2.0
PRODID:-//Good News Dallas Church - ECPv6.15.20//NONSGML v1.0//EN
CALSCALE:GREGORIAN
METHOD:PUBLISH
X-WR-CALNAME:Good News Dallas Church
X-ORIGINAL-URL:https://goodnewsdallas.org
X-WR-CALDESC:Events for Good News Dallas Church
REFRESH-INTERVAL;VALUE=DURATION:PT1H
X-Robots-Tag:noindex
X-PUBLISHED-TTL:PT1H
BEGIN:VTIMEZONE
TZID:America/Chicago
BEGIN:DAYLIGHT
TZOFFSETFROM:-0600
TZOFFSETTO:-0500
TZNAME:CDT
DTSTART:20290311T080000
END:DAYLIGHT
BEGIN:STANDARD
TZOFFSETFROM:-0500
TZOFFSETTO:-0600
TZNAME:CST
DTSTART:20291104T070000
END:STANDARD
BEGIN:DAYLIGHT
TZOFFSETFROM:-0600
TZOFFSETTO:-0500
TZNAME:CDT
DTSTART:20300310T080000
END:DAYLIGHT
BEGIN:STANDARD
TZOFFSETFROM:-0500
TZOFFSETTO:-0600
TZNAME:CST
DTSTART:20301103T070000
END:STANDARD
BEGIN:DAYLIGHT
TZOFFSETFROM:-0600
TZOFFSETTO:-0500
TZNAME:CDT
DTSTART:20310309T080000
END:DAYLIGHT
BEGIN:STANDARD
TZOFFSETFROM:-0500
TZOFFSETTO:-0600
TZNAME:CST
DTSTART:20311102T070000
END:STANDARD
END:VTIMEZONE
BEGIN:VEVENT
DTSTART;TZID=America/Chicago:20300315T190000
DTEND;TZID=America/Chicago:20300315T210000
DTSTAMP:20260422T222227
CREATED:20250308T134104Z
LAST-MODIFIED:20251013T231156Z
UID:10000789-1899831600-1899838800@goodnewsdallas.org
SUMMARY:Mind Education
DESCRIPTION:
URL:https://goodnewsdallas.org/event/mind-education/2030-03-15/
LOCATION:Good News Dallas Church\, 1149 N Plano Rd\, Garland\, Texas\, 75042\, United States
CATEGORIES:Weekly Service
END:VEVENT
BEGIN:VEVENT
DTSTART;TZID=America/Chicago:20300322T190000
DTEND;TZID=America/Chicago:20300322T210000
DTSTAMP:20260422T222227
CREATED:20250308T134104Z
LAST-MODIFIED:20251013T231156Z
UID:10000790-1900436400-1900443600@goodnewsdallas.org
SUMMARY:Mind Education
DESCRIPTION:
URL:https://goodnewsdallas.org/event/mind-education/2030-03-22/
LOCATION:Good News Dallas Church\, 1149 N Plano Rd\, Garland\, Texas\, 75042\, United States
CATEGORIES:Weekly Service
END:VEVENT
BEGIN:VEVENT
DTSTART;TZID=America/Chicago:20300329T190000
DTEND;TZID=America/Chicago:20300329T210000
DTSTAMP:20260422T222227
CREATED:20250308T134104Z
LAST-MODIFIED:20251013T231156Z
UID:10000791-1901041200-1901048400@goodnewsdallas.org
SUMMARY:Mind Education
DESCRIPTION:
URL:https://goodnewsdallas.org/event/mind-education/2030-03-29/
LOCATION:Good News Dallas Church\, 1149 N Plano Rd\, Garland\, Texas\, 75042\, United States
CATEGORIES:Weekly Service
END:VEVENT
BEGIN:VEVENT
DTSTART;TZID=America/Chicago:20300405T190000
DTEND;TZID=America/Chicago:20300405T210000
DTSTAMP:20260422T222227
CREATED:20250308T134104Z
LAST-MODIFIED:20251013T231156Z
UID:10000792-1901646000-1901653200@goodnewsdallas.org
SUMMARY:Mind Education
DESCRIPTION:
URL:https://goodnewsdallas.org/event/mind-education/2030-04-05/
LOCATION:Good News Dallas Church\, 1149 N Plano Rd\, Garland\, Texas\, 75042\, United States
CATEGORIES:Weekly Service
END:VEVENT
BEGIN:VEVENT
DTSTART;TZID=America/Chicago:20300412T190000
DTEND;TZID=America/Chicago:20300412T210000
DTSTAMP:20260422T222227
CREATED:20250308T134104Z
LAST-MODIFIED:20251013T231156Z
UID:10000793-1902250800-1902258000@goodnewsdallas.org
SUMMARY:Mind Education
DESCRIPTION:
URL:https://goodnewsdallas.org/event/mind-education/2030-04-12/
LOCATION:Good News Dallas Church\, 1149 N Plano Rd\, Garland\, Texas\, 75042\, United States
CATEGORIES:Weekly Service
END:VEVENT
BEGIN:VEVENT
DTSTART;TZID=America/Chicago:20300419T190000
DTEND;TZID=America/Chicago:20300419T210000
DTSTAMP:20260422T222227
CREATED:20250308T134104Z
LAST-MODIFIED:20251013T231156Z
UID:10000794-1902855600-1902862800@goodnewsdallas.org
SUMMARY:Mind Education
DESCRIPTION:
URL:https://goodnewsdallas.org/event/mind-education/2030-04-19/
LOCATION:Good News Dallas Church\, 1149 N Plano Rd\, Garland\, Texas\, 75042\, United States
CATEGORIES:Weekly Service
END:VEVENT
BEGIN:VEVENT
DTSTART;TZID=America/Chicago:20300426T190000
DTEND;TZID=America/Chicago:20300426T210000
DTSTAMP:20260422T222227
CREATED:20250308T134104Z
LAST-MODIFIED:20251013T231156Z
UID:10000795-1903460400-1903467600@goodnewsdallas.org
SUMMARY:Mind Education
DESCRIPTION:
URL:https://goodnewsdallas.org/event/mind-education/2030-04-26/
LOCATION:Good News Dallas Church\, 1149 N Plano Rd\, Garland\, Texas\, 75042\, United States
CATEGORIES:Weekly Service
END:VEVENT
BEGIN:VEVENT
DTSTART;TZID=America/Chicago:20300503T190000
DTEND;TZID=America/Chicago:20300503T210000
DTSTAMP:20260422T222227
CREATED:20250308T134104Z
LAST-MODIFIED:20251013T231156Z
UID:10000796-1904065200-1904072400@goodnewsdallas.org
SUMMARY:Mind Education
DESCRIPTION:
URL:https://goodnewsdallas.org/event/mind-education/2030-05-03/
LOCATION:Good News Dallas Church\, 1149 N Plano Rd\, Garland\, Texas\, 75042\, United States
CATEGORIES:Weekly Service
END:VEVENT
BEGIN:VEVENT
DTSTART;TZID=America/Chicago:20300510T190000
DTEND;TZID=America/Chicago:20300510T210000
DTSTAMP:20260422T222227
CREATED:20250308T134104Z
LAST-MODIFIED:20251013T231156Z
UID:10000797-1904670000-1904677200@goodnewsdallas.org
SUMMARY:Mind Education
DESCRIPTION:
URL:https://goodnewsdallas.org/event/mind-education/2030-05-10/
LOCATION:Good News Dallas Church\, 1149 N Plano Rd\, Garland\, Texas\, 75042\, United States
CATEGORIES:Weekly Service
END:VEVENT
BEGIN:VEVENT
DTSTART;TZID=America/Chicago:20300517T190000
DTEND;TZID=America/Chicago:20300517T210000
DTSTAMP:20260422T222227
CREATED:20250308T134104Z
LAST-MODIFIED:20251013T231156Z
UID:10000798-1905274800-1905282000@goodnewsdallas.org
SUMMARY:Mind Education
DESCRIPTION:
URL:https://goodnewsdallas.org/event/mind-education/2030-05-17/
LOCATION:Good News Dallas Church\, 1149 N Plano Rd\, Garland\, Texas\, 75042\, United States
CATEGORIES:Weekly Service
END:VEVENT
BEGIN:VEVENT
DTSTART;TZID=America/Chicago:20300524T190000
DTEND;TZID=America/Chicago:20300524T210000
DTSTAMP:20260422T222227
CREATED:20250308T134104Z
LAST-MODIFIED:20251013T231156Z
UID:10000799-1905879600-1905886800@goodnewsdallas.org
SUMMARY:Mind Education
DESCRIPTION:
URL:https://goodnewsdallas.org/event/mind-education/2030-05-24/
LOCATION:Good News Dallas Church\, 1149 N Plano Rd\, Garland\, Texas\, 75042\, United States
CATEGORIES:Weekly Service
END:VEVENT
BEGIN:VEVENT
DTSTART;TZID=America/Chicago:20300531T190000
DTEND;TZID=America/Chicago:20300531T210000
DTSTAMP:20260422T222227
CREATED:20250308T134104Z
LAST-MODIFIED:20251013T231156Z
UID:10000800-1906484400-1906491600@goodnewsdallas.org
SUMMARY:Mind Education
DESCRIPTION:
URL:https://goodnewsdallas.org/event/mind-education/2030-05-31/
LOCATION:Good News Dallas Church\, 1149 N Plano Rd\, Garland\, Texas\, 75042\, United States
CATEGORIES:Weekly Service
END:VEVENT
BEGIN:VEVENT
DTSTART;TZID=America/Chicago:20300607T190000
DTEND;TZID=America/Chicago:20300607T210000
DTSTAMP:20260422T222227
CREATED:20250308T134104Z
LAST-MODIFIED:20251013T231156Z
UID:10000801-1907089200-1907096400@goodnewsdallas.org
SUMMARY:Mind Education
DESCRIPTION:
URL:https://goodnewsdallas.org/event/mind-education/2030-06-07/
LOCATION:Good News Dallas Church\, 1149 N Plano Rd\, Garland\, Texas\, 75042\, United States
CATEGORIES:Weekly Service
END:VEVENT
BEGIN:VEVENT
DTSTART;TZID=America/Chicago:20300614T190000
DTEND;TZID=America/Chicago:20300614T210000
DTSTAMP:20260422T222227
CREATED:20250308T134104Z
LAST-MODIFIED:20251013T231156Z
UID:10000802-1907694000-1907701200@goodnewsdallas.org
SUMMARY:Mind Education
DESCRIPTION:
URL:https://goodnewsdallas.org/event/mind-education/2030-06-14/
LOCATION:Good News Dallas Church\, 1149 N Plano Rd\, Garland\, Texas\, 75042\, United States
CATEGORIES:Weekly Service
END:VEVENT
BEGIN:VEVENT
DTSTART;TZID=America/Chicago:20300621T190000
DTEND;TZID=America/Chicago:20300621T210000
DTSTAMP:20260422T222227
CREATED:20250308T134104Z
LAST-MODIFIED:20251013T231156Z
UID:10000803-1908298800-1908306000@goodnewsdallas.org
SUMMARY:Mind Education
DESCRIPTION:
URL:https://goodnewsdallas.org/event/mind-education/2030-06-21/
LOCATION:Good News Dallas Church\, 1149 N Plano Rd\, Garland\, Texas\, 75042\, United States
CATEGORIES:Weekly Service
END:VEVENT
BEGIN:VEVENT
DTSTART;TZID=America/Chicago:20300628T190000
DTEND;TZID=America/Chicago:20300628T210000
DTSTAMP:20260422T222227
CREATED:20250308T134104Z
LAST-MODIFIED:20251013T231156Z
UID:10000804-1908903600-1908910800@goodnewsdallas.org
SUMMARY:Mind Education
DESCRIPTION:
URL:https://goodnewsdallas.org/event/mind-education/2030-06-28/
LOCATION:Good News Dallas Church\, 1149 N Plano Rd\, Garland\, Texas\, 75042\, United States
CATEGORIES:Weekly Service
END:VEVENT
BEGIN:VEVENT
DTSTART;TZID=America/Chicago:20300705T190000
DTEND;TZID=America/Chicago:20300705T210000
DTSTAMP:20260422T222227
CREATED:20250308T134104Z
LAST-MODIFIED:20251013T231156Z
UID:10000805-1909508400-1909515600@goodnewsdallas.org
SUMMARY:Mind Education
DESCRIPTION:
URL:https://goodnewsdallas.org/event/mind-education/2030-07-05/
LOCATION:Good News Dallas Church\, 1149 N Plano Rd\, Garland\, Texas\, 75042\, United States
CATEGORIES:Weekly Service
END:VEVENT
BEGIN:VEVENT
DTSTART;TZID=America/Chicago:20300712T190000
DTEND;TZID=America/Chicago:20300712T210000
DTSTAMP:20260422T222227
CREATED:20250308T134104Z
LAST-MODIFIED:20251013T231156Z
UID:10000806-1910113200-1910120400@goodnewsdallas.org
SUMMARY:Mind Education
DESCRIPTION:
URL:https://goodnewsdallas.org/event/mind-education/2030-07-12/
LOCATION:Good News Dallas Church\, 1149 N Plano Rd\, Garland\, Texas\, 75042\, United States
CATEGORIES:Weekly Service
END:VEVENT
BEGIN:VEVENT
DTSTART;TZID=America/Chicago:20300719T190000
DTEND;TZID=America/Chicago:20300719T210000
DTSTAMP:20260422T222227
CREATED:20250308T134104Z
LAST-MODIFIED:20251013T231156Z
UID:10000807-1910718000-1910725200@goodnewsdallas.org
SUMMARY:Mind Education
DESCRIPTION:
URL:https://goodnewsdallas.org/event/mind-education/2030-07-19/
LOCATION:Good News Dallas Church\, 1149 N Plano Rd\, Garland\, Texas\, 75042\, United States
CATEGORIES:Weekly Service
END:VEVENT
BEGIN:VEVENT
DTSTART;TZID=America/Chicago:20300726T190000
DTEND;TZID=America/Chicago:20300726T210000
DTSTAMP:20260422T222227
CREATED:20250308T134104Z
LAST-MODIFIED:20251013T231156Z
UID:10000808-1911322800-1911330000@goodnewsdallas.org
SUMMARY:Mind Education
DESCRIPTION:
URL:https://goodnewsdallas.org/event/mind-education/2030-07-26/
LOCATION:Good News Dallas Church\, 1149 N Plano Rd\, Garland\, Texas\, 75042\, United States
CATEGORIES:Weekly Service
END:VEVENT
BEGIN:VEVENT
DTSTART;TZID=America/Chicago:20300802T190000
DTEND;TZID=America/Chicago:20300802T210000
DTSTAMP:20260422T222227
CREATED:20250308T134104Z
LAST-MODIFIED:20251013T231156Z
UID:10000809-1911927600-1911934800@goodnewsdallas.org
SUMMARY:Mind Education
DESCRIPTION:
URL:https://goodnewsdallas.org/event/mind-education/2030-08-02/
LOCATION:Good News Dallas Church\, 1149 N Plano Rd\, Garland\, Texas\, 75042\, United States
CATEGORIES:Weekly Service
END:VEVENT
BEGIN:VEVENT
DTSTART;TZID=America/Chicago:20300809T190000
DTEND;TZID=America/Chicago:20300809T210000
DTSTAMP:20260422T222227
CREATED:20250308T134104Z
LAST-MODIFIED:20251013T231156Z
UID:10000810-1912532400-1912539600@goodnewsdallas.org
SUMMARY:Mind Education
DESCRIPTION:
URL:https://goodnewsdallas.org/event/mind-education/2030-08-09/
LOCATION:Good News Dallas Church\, 1149 N Plano Rd\, Garland\, Texas\, 75042\, United States
CATEGORIES:Weekly Service
END:VEVENT
BEGIN:VEVENT
DTSTART;TZID=America/Chicago:20300816T190000
DTEND;TZID=America/Chicago:20300816T210000
DTSTAMP:20260422T222227
CREATED:20250308T134104Z
LAST-MODIFIED:20251013T231156Z
UID:10000811-1913137200-1913144400@goodnewsdallas.org
SUMMARY:Mind Education
DESCRIPTION:
URL:https://goodnewsdallas.org/event/mind-education/2030-08-16/
LOCATION:Good News Dallas Church\, 1149 N Plano Rd\, Garland\, Texas\, 75042\, United States
CATEGORIES:Weekly Service
END:VEVENT
BEGIN:VEVENT
DTSTART;TZID=America/Chicago:20300823T190000
DTEND;TZID=America/Chicago:20300823T210000
DTSTAMP:20260422T222227
CREATED:20250308T134104Z
LAST-MODIFIED:20251013T231156Z
UID:10000812-1913742000-1913749200@goodnewsdallas.org
SUMMARY:Mind Education
DESCRIPTION:
URL:https://goodnewsdallas.org/event/mind-education/2030-08-23/
LOCATION:Good News Dallas Church\, 1149 N Plano Rd\, Garland\, Texas\, 75042\, United States
CATEGORIES:Weekly Service
END:VEVENT
BEGIN:VEVENT
DTSTART;TZID=America/Chicago:20300830T190000
DTEND;TZID=America/Chicago:20300830T210000
DTSTAMP:20260422T222227
CREATED:20250308T134104Z
LAST-MODIFIED:20251013T231156Z
UID:10000813-1914346800-1914354000@goodnewsdallas.org
SUMMARY:Mind Education
DESCRIPTION:
URL:https://goodnewsdallas.org/event/mind-education/2030-08-30/
LOCATION:Good News Dallas Church\, 1149 N Plano Rd\, Garland\, Texas\, 75042\, United States
CATEGORIES:Weekly Service
END:VEVENT
BEGIN:VEVENT
DTSTART;TZID=America/Chicago:20300906T190000
DTEND;TZID=America/Chicago:20300906T210000
DTSTAMP:20260422T222227
CREATED:20250308T134104Z
LAST-MODIFIED:20251013T231156Z
UID:10000814-1914951600-1914958800@goodnewsdallas.org
SUMMARY:Mind Education
DESCRIPTION:
URL:https://goodnewsdallas.org/event/mind-education/2030-09-06/
LOCATION:Good News Dallas Church\, 1149 N Plano Rd\, Garland\, Texas\, 75042\, United States
CATEGORIES:Weekly Service
END:VEVENT
BEGIN:VEVENT
DTSTART;TZID=America/Chicago:20300913T190000
DTEND;TZID=America/Chicago:20300913T210000
DTSTAMP:20260422T222227
CREATED:20250308T134104Z
LAST-MODIFIED:20251013T231156Z
UID:10000815-1915556400-1915563600@goodnewsdallas.org
SUMMARY:Mind Education
DESCRIPTION:
URL:https://goodnewsdallas.org/event/mind-education/2030-09-13/
LOCATION:Good News Dallas Church\, 1149 N Plano Rd\, Garland\, Texas\, 75042\, United States
CATEGORIES:Weekly Service
END:VEVENT
BEGIN:VEVENT
DTSTART;TZID=America/Chicago:20300920T190000
DTEND;TZID=America/Chicago:20300920T210000
DTSTAMP:20260422T222227
CREATED:20250308T134104Z
LAST-MODIFIED:20251013T231156Z
UID:10000816-1916161200-1916168400@goodnewsdallas.org
SUMMARY:Mind Education
DESCRIPTION:
URL:https://goodnewsdallas.org/event/mind-education/2030-09-20/
LOCATION:Good News Dallas Church\, 1149 N Plano Rd\, Garland\, Texas\, 75042\, United States
CATEGORIES:Weekly Service
END:VEVENT
BEGIN:VEVENT
DTSTART;TZID=America/Chicago:20300927T190000
DTEND;TZID=America/Chicago:20300927T210000
DTSTAMP:20260422T222227
CREATED:20250308T134104Z
LAST-MODIFIED:20251013T231156Z
UID:10000817-1916766000-1916773200@goodnewsdallas.org
SUMMARY:Mind Education
DESCRIPTION:
URL:https://goodnewsdallas.org/event/mind-education/2030-09-27/
LOCATION:Good News Dallas Church\, 1149 N Plano Rd\, Garland\, Texas\, 75042\, United States
CATEGORIES:Weekly Service
END:VEVENT
BEGIN:VEVENT
DTSTART;TZID=America/Chicago:20301004T190000
DTEND;TZID=America/Chicago:20301004T210000
DTSTAMP:20260422T222227
CREATED:20250308T134104Z
LAST-MODIFIED:20251013T231156Z
UID:10000818-1917370800-1917378000@goodnewsdallas.org
SUMMARY:Mind Education
DESCRIPTION:
URL:https://goodnewsdallas.org/event/mind-education/2030-10-04/
LOCATION:Good News Dallas Church\, 1149 N Plano Rd\, Garland\, Texas\, 75042\, United States
CATEGORIES:Weekly Service
END:VEVENT
END:VCALENDAR