BEGIN:VCALENDAR
VERSION:2.0
PRODID:-//Good News Dallas Church - ECPv6.15.20//NONSGML v1.0//EN
CALSCALE:GREGORIAN
METHOD:PUBLISH
X-WR-CALNAME:Good News Dallas Church
X-ORIGINAL-URL:https://goodnewsdallas.org
X-WR-CALDESC:Events for Good News Dallas Church
REFRESH-INTERVAL;VALUE=DURATION:PT1H
X-Robots-Tag:noindex
X-PUBLISHED-TTL:PT1H
BEGIN:VTIMEZONE
TZID:America/Chicago
BEGIN:DAYLIGHT
TZOFFSETFROM:-0600
TZOFFSETTO:-0500
TZNAME:CDT
DTSTART:20290311T080000
END:DAYLIGHT
BEGIN:STANDARD
TZOFFSETFROM:-0500
TZOFFSETTO:-0600
TZNAME:CST
DTSTART:20291104T070000
END:STANDARD
BEGIN:DAYLIGHT
TZOFFSETFROM:-0600
TZOFFSETTO:-0500
TZNAME:CDT
DTSTART:20300310T080000
END:DAYLIGHT
BEGIN:STANDARD
TZOFFSETFROM:-0500
TZOFFSETTO:-0600
TZNAME:CST
DTSTART:20301103T070000
END:STANDARD
BEGIN:DAYLIGHT
TZOFFSETFROM:-0600
TZOFFSETTO:-0500
TZNAME:CDT
DTSTART:20310309T080000
END:DAYLIGHT
BEGIN:STANDARD
TZOFFSETFROM:-0500
TZOFFSETTO:-0600
TZNAME:CST
DTSTART:20311102T070000
END:STANDARD
END:VTIMEZONE
BEGIN:VEVENT
DTSTART;TZID=America/Chicago:20300104T190000
DTEND;TZID=America/Chicago:20300104T210000
DTSTAMP:20260423T030726
CREATED:20250308T134104Z
LAST-MODIFIED:20251013T231156Z
UID:10000775-1893783600-1893790800@goodnewsdallas.org
SUMMARY:Mind Education
DESCRIPTION:
URL:https://goodnewsdallas.org/event/mind-education/2030-01-04/
LOCATION:Good News Dallas Church\, 1149 N Plano Rd\, Garland\, Texas\, 75042\, United States
CATEGORIES:Weekly Service
END:VEVENT
BEGIN:VEVENT
DTSTART;TZID=America/Chicago:20300106T100000
DTEND;TZID=America/Chicago:20300106T130000
DTSTAMP:20260423T030726
CREATED:20250212T010015Z
LAST-MODIFIED:20250212T011240Z
UID:10000255-1893924000-1893934800@goodnewsdallas.org
SUMMARY:Sunday Service
DESCRIPTION:
URL:https://goodnewsdallas.org/event/sunday-service/2030-01-06/
LOCATION:Good News Dallas Church\, 1149 N Plano Rd\, Garland\, Texas\, 75042\, United States
CATEGORIES:Weekly Service
END:VEVENT
BEGIN:VEVENT
DTSTART;TZID=America/Chicago:20300109T193000
DTEND;TZID=America/Chicago:20300109T210000
DTSTAMP:20260423T030726
CREATED:20250212T011405Z
LAST-MODIFIED:20250212T011956Z
UID:10000517-1894217400-1894222800@goodnewsdallas.org
SUMMARY:Wednesday Service
DESCRIPTION:
URL:https://goodnewsdallas.org/event/wednesday-service/2030-01-09/
LOCATION:Good News Dallas Church\, 1149 N Plano Rd\, Garland\, Texas\, 75042\, United States
CATEGORIES:Weekly Service
END:VEVENT
BEGIN:VEVENT
DTSTART;TZID=America/Chicago:20300111T190000
DTEND;TZID=America/Chicago:20300111T210000
DTSTAMP:20260423T030726
CREATED:20250308T134104Z
LAST-MODIFIED:20251013T231156Z
UID:10000776-1894388400-1894395600@goodnewsdallas.org
SUMMARY:Mind Education
DESCRIPTION:
URL:https://goodnewsdallas.org/event/mind-education/2030-01-11/
LOCATION:Good News Dallas Church\, 1149 N Plano Rd\, Garland\, Texas\, 75042\, United States
CATEGORIES:Weekly Service
END:VEVENT
BEGIN:VEVENT
DTSTART;TZID=America/Chicago:20300113T100000
DTEND;TZID=America/Chicago:20300113T130000
DTSTAMP:20260423T030726
CREATED:20250212T010015Z
LAST-MODIFIED:20250212T011240Z
UID:10000256-1894528800-1894539600@goodnewsdallas.org
SUMMARY:Sunday Service
DESCRIPTION:
URL:https://goodnewsdallas.org/event/sunday-service/2030-01-13/
LOCATION:Good News Dallas Church\, 1149 N Plano Rd\, Garland\, Texas\, 75042\, United States
CATEGORIES:Weekly Service
END:VEVENT
BEGIN:VEVENT
DTSTART;TZID=America/Chicago:20300116T193000
DTEND;TZID=America/Chicago:20300116T210000
DTSTAMP:20260423T030726
CREATED:20250212T011405Z
LAST-MODIFIED:20250212T011956Z
UID:10000518-1894822200-1894827600@goodnewsdallas.org
SUMMARY:Wednesday Service
DESCRIPTION:
URL:https://goodnewsdallas.org/event/wednesday-service/2030-01-16/
LOCATION:Good News Dallas Church\, 1149 N Plano Rd\, Garland\, Texas\, 75042\, United States
CATEGORIES:Weekly Service
END:VEVENT
BEGIN:VEVENT
DTSTART;TZID=America/Chicago:20300118T190000
DTEND;TZID=America/Chicago:20300118T210000
DTSTAMP:20260423T030726
CREATED:20250308T134104Z
LAST-MODIFIED:20251013T231156Z
UID:10000777-1894993200-1895000400@goodnewsdallas.org
SUMMARY:Mind Education
DESCRIPTION:
URL:https://goodnewsdallas.org/event/mind-education/2030-01-18/
LOCATION:Good News Dallas Church\, 1149 N Plano Rd\, Garland\, Texas\, 75042\, United States
CATEGORIES:Weekly Service
END:VEVENT
BEGIN:VEVENT
DTSTART;TZID=America/Chicago:20300120T100000
DTEND;TZID=America/Chicago:20300120T130000
DTSTAMP:20260423T030726
CREATED:20250212T010015Z
LAST-MODIFIED:20250212T011240Z
UID:10000257-1895133600-1895144400@goodnewsdallas.org
SUMMARY:Sunday Service
DESCRIPTION:
URL:https://goodnewsdallas.org/event/sunday-service/2030-01-20/
LOCATION:Good News Dallas Church\, 1149 N Plano Rd\, Garland\, Texas\, 75042\, United States
CATEGORIES:Weekly Service
END:VEVENT
BEGIN:VEVENT
DTSTART;TZID=America/Chicago:20300123T193000
DTEND;TZID=America/Chicago:20300123T210000
DTSTAMP:20260423T030726
CREATED:20250212T011405Z
LAST-MODIFIED:20250212T011956Z
UID:10000519-1895427000-1895432400@goodnewsdallas.org
SUMMARY:Wednesday Service
DESCRIPTION:
URL:https://goodnewsdallas.org/event/wednesday-service/2030-01-23/
LOCATION:Good News Dallas Church\, 1149 N Plano Rd\, Garland\, Texas\, 75042\, United States
CATEGORIES:Weekly Service
END:VEVENT
BEGIN:VEVENT
DTSTART;TZID=America/Chicago:20300125T190000
DTEND;TZID=America/Chicago:20300125T210000
DTSTAMP:20260423T030726
CREATED:20250308T134104Z
LAST-MODIFIED:20251013T231156Z
UID:10000778-1895598000-1895605200@goodnewsdallas.org
SUMMARY:Mind Education
DESCRIPTION:
URL:https://goodnewsdallas.org/event/mind-education/2030-01-25/
LOCATION:Good News Dallas Church\, 1149 N Plano Rd\, Garland\, Texas\, 75042\, United States
CATEGORIES:Weekly Service
END:VEVENT
BEGIN:VEVENT
DTSTART;TZID=America/Chicago:20300127T100000
DTEND;TZID=America/Chicago:20300127T130000
DTSTAMP:20260423T030726
CREATED:20250212T010015Z
LAST-MODIFIED:20250212T011240Z
UID:10000258-1895738400-1895749200@goodnewsdallas.org
SUMMARY:Sunday Service
DESCRIPTION:
URL:https://goodnewsdallas.org/event/sunday-service/2030-01-27/
LOCATION:Good News Dallas Church\, 1149 N Plano Rd\, Garland\, Texas\, 75042\, United States
CATEGORIES:Weekly Service
END:VEVENT
BEGIN:VEVENT
DTSTART;TZID=America/Chicago:20300130T193000
DTEND;TZID=America/Chicago:20300130T210000
DTSTAMP:20260423T030726
CREATED:20250212T011405Z
LAST-MODIFIED:20250212T011956Z
UID:10000520-1896031800-1896037200@goodnewsdallas.org
SUMMARY:Wednesday Service
DESCRIPTION:
URL:https://goodnewsdallas.org/event/wednesday-service/2030-01-30/
LOCATION:Good News Dallas Church\, 1149 N Plano Rd\, Garland\, Texas\, 75042\, United States
CATEGORIES:Weekly Service
END:VEVENT
BEGIN:VEVENT
DTSTART;TZID=America/Chicago:20300201T190000
DTEND;TZID=America/Chicago:20300201T210000
DTSTAMP:20260423T030726
CREATED:20250308T134104Z
LAST-MODIFIED:20251013T231156Z
UID:10000779-1896202800-1896210000@goodnewsdallas.org
SUMMARY:Mind Education
DESCRIPTION:
URL:https://goodnewsdallas.org/event/mind-education/2030-02-01/
LOCATION:Good News Dallas Church\, 1149 N Plano Rd\, Garland\, Texas\, 75042\, United States
CATEGORIES:Weekly Service
END:VEVENT
BEGIN:VEVENT
DTSTART;TZID=America/Chicago:20300203T100000
DTEND;TZID=America/Chicago:20300203T130000
DTSTAMP:20260423T030726
CREATED:20250212T010015Z
LAST-MODIFIED:20250212T011240Z
UID:10000259-1896343200-1896354000@goodnewsdallas.org
SUMMARY:Sunday Service
DESCRIPTION:
URL:https://goodnewsdallas.org/event/sunday-service/2030-02-03/
LOCATION:Good News Dallas Church\, 1149 N Plano Rd\, Garland\, Texas\, 75042\, United States
CATEGORIES:Weekly Service
END:VEVENT
BEGIN:VEVENT
DTSTART;TZID=America/Chicago:20300206T193000
DTEND;TZID=America/Chicago:20300206T210000
DTSTAMP:20260423T030726
CREATED:20250212T011405Z
LAST-MODIFIED:20250212T011956Z
UID:10000521-1896636600-1896642000@goodnewsdallas.org
SUMMARY:Wednesday Service
DESCRIPTION:
URL:https://goodnewsdallas.org/event/wednesday-service/2030-02-06/
LOCATION:Good News Dallas Church\, 1149 N Plano Rd\, Garland\, Texas\, 75042\, United States
CATEGORIES:Weekly Service
END:VEVENT
BEGIN:VEVENT
DTSTART;TZID=America/Chicago:20300208T190000
DTEND;TZID=America/Chicago:20300208T210000
DTSTAMP:20260423T030726
CREATED:20250308T134104Z
LAST-MODIFIED:20251013T231156Z
UID:10000780-1896807600-1896814800@goodnewsdallas.org
SUMMARY:Mind Education
DESCRIPTION:
URL:https://goodnewsdallas.org/event/mind-education/2030-02-08/
LOCATION:Good News Dallas Church\, 1149 N Plano Rd\, Garland\, Texas\, 75042\, United States
CATEGORIES:Weekly Service
END:VEVENT
BEGIN:VEVENT
DTSTART;TZID=America/Chicago:20300210T100000
DTEND;TZID=America/Chicago:20300210T130000
DTSTAMP:20260423T030726
CREATED:20250212T010015Z
LAST-MODIFIED:20250212T011240Z
UID:10000260-1896948000-1896958800@goodnewsdallas.org
SUMMARY:Sunday Service
DESCRIPTION:
URL:https://goodnewsdallas.org/event/sunday-service/2030-02-10/
LOCATION:Good News Dallas Church\, 1149 N Plano Rd\, Garland\, Texas\, 75042\, United States
CATEGORIES:Weekly Service
END:VEVENT
BEGIN:VEVENT
DTSTART;TZID=America/Chicago:20300215T190000
DTEND;TZID=America/Chicago:20300215T210000
DTSTAMP:20260423T030726
CREATED:20250308T134104Z
LAST-MODIFIED:20251013T231156Z
UID:10000781-1897412400-1897419600@goodnewsdallas.org
SUMMARY:Mind Education
DESCRIPTION:
URL:https://goodnewsdallas.org/event/mind-education/2030-02-15/
LOCATION:Good News Dallas Church\, 1149 N Plano Rd\, Garland\, Texas\, 75042\, United States
CATEGORIES:Weekly Service
END:VEVENT
BEGIN:VEVENT
DTSTART;TZID=America/Chicago:20300222T190000
DTEND;TZID=America/Chicago:20300222T210000
DTSTAMP:20260423T030726
CREATED:20250308T134104Z
LAST-MODIFIED:20251013T231156Z
UID:10000782-1898017200-1898024400@goodnewsdallas.org
SUMMARY:Mind Education
DESCRIPTION:
URL:https://goodnewsdallas.org/event/mind-education/2030-02-22/
LOCATION:Good News Dallas Church\, 1149 N Plano Rd\, Garland\, Texas\, 75042\, United States
CATEGORIES:Weekly Service
END:VEVENT
BEGIN:VEVENT
DTSTART;TZID=America/Chicago:20300301T190000
DTEND;TZID=America/Chicago:20300301T210000
DTSTAMP:20260423T030726
CREATED:20250308T134104Z
LAST-MODIFIED:20251013T231156Z
UID:10000783-1898622000-1898629200@goodnewsdallas.org
SUMMARY:Mind Education
DESCRIPTION:
URL:https://goodnewsdallas.org/event/mind-education/2030-03-01/
LOCATION:Good News Dallas Church\, 1149 N Plano Rd\, Garland\, Texas\, 75042\, United States
CATEGORIES:Weekly Service
END:VEVENT
BEGIN:VEVENT
DTSTART;TZID=America/Chicago:20300308T190000
DTEND;TZID=America/Chicago:20300308T210000
DTSTAMP:20260423T030726
CREATED:20250308T134104Z
LAST-MODIFIED:20251013T231156Z
UID:10000784-1899226800-1899234000@goodnewsdallas.org
SUMMARY:Mind Education
DESCRIPTION:
URL:https://goodnewsdallas.org/event/mind-education/2030-03-08/
LOCATION:Good News Dallas Church\, 1149 N Plano Rd\, Garland\, Texas\, 75042\, United States
CATEGORIES:Weekly Service
END:VEVENT
BEGIN:VEVENT
DTSTART;TZID=America/Chicago:20300315T190000
DTEND;TZID=America/Chicago:20300315T210000
DTSTAMP:20260423T030726
CREATED:20250308T134104Z
LAST-MODIFIED:20251013T231156Z
UID:10000789-1899831600-1899838800@goodnewsdallas.org
SUMMARY:Mind Education
DESCRIPTION:
URL:https://goodnewsdallas.org/event/mind-education/2030-03-15/
LOCATION:Good News Dallas Church\, 1149 N Plano Rd\, Garland\, Texas\, 75042\, United States
CATEGORIES:Weekly Service
END:VEVENT
BEGIN:VEVENT
DTSTART;TZID=America/Chicago:20300322T190000
DTEND;TZID=America/Chicago:20300322T210000
DTSTAMP:20260423T030726
CREATED:20250308T134104Z
LAST-MODIFIED:20251013T231156Z
UID:10000790-1900436400-1900443600@goodnewsdallas.org
SUMMARY:Mind Education
DESCRIPTION:
URL:https://goodnewsdallas.org/event/mind-education/2030-03-22/
LOCATION:Good News Dallas Church\, 1149 N Plano Rd\, Garland\, Texas\, 75042\, United States
CATEGORIES:Weekly Service
END:VEVENT
BEGIN:VEVENT
DTSTART;TZID=America/Chicago:20300329T190000
DTEND;TZID=America/Chicago:20300329T210000
DTSTAMP:20260423T030726
CREATED:20250308T134104Z
LAST-MODIFIED:20251013T231156Z
UID:10000791-1901041200-1901048400@goodnewsdallas.org
SUMMARY:Mind Education
DESCRIPTION:
URL:https://goodnewsdallas.org/event/mind-education/2030-03-29/
LOCATION:Good News Dallas Church\, 1149 N Plano Rd\, Garland\, Texas\, 75042\, United States
CATEGORIES:Weekly Service
END:VEVENT
BEGIN:VEVENT
DTSTART;TZID=America/Chicago:20300405T190000
DTEND;TZID=America/Chicago:20300405T210000
DTSTAMP:20260423T030726
CREATED:20250308T134104Z
LAST-MODIFIED:20251013T231156Z
UID:10000792-1901646000-1901653200@goodnewsdallas.org
SUMMARY:Mind Education
DESCRIPTION:
URL:https://goodnewsdallas.org/event/mind-education/2030-04-05/
LOCATION:Good News Dallas Church\, 1149 N Plano Rd\, Garland\, Texas\, 75042\, United States
CATEGORIES:Weekly Service
END:VEVENT
BEGIN:VEVENT
DTSTART;TZID=America/Chicago:20300412T190000
DTEND;TZID=America/Chicago:20300412T210000
DTSTAMP:20260423T030726
CREATED:20250308T134104Z
LAST-MODIFIED:20251013T231156Z
UID:10000793-1902250800-1902258000@goodnewsdallas.org
SUMMARY:Mind Education
DESCRIPTION:
URL:https://goodnewsdallas.org/event/mind-education/2030-04-12/
LOCATION:Good News Dallas Church\, 1149 N Plano Rd\, Garland\, Texas\, 75042\, United States
CATEGORIES:Weekly Service
END:VEVENT
BEGIN:VEVENT
DTSTART;TZID=America/Chicago:20300419T190000
DTEND;TZID=America/Chicago:20300419T210000
DTSTAMP:20260423T030726
CREATED:20250308T134104Z
LAST-MODIFIED:20251013T231156Z
UID:10000794-1902855600-1902862800@goodnewsdallas.org
SUMMARY:Mind Education
DESCRIPTION:
URL:https://goodnewsdallas.org/event/mind-education/2030-04-19/
LOCATION:Good News Dallas Church\, 1149 N Plano Rd\, Garland\, Texas\, 75042\, United States
CATEGORIES:Weekly Service
END:VEVENT
BEGIN:VEVENT
DTSTART;TZID=America/Chicago:20300426T190000
DTEND;TZID=America/Chicago:20300426T210000
DTSTAMP:20260423T030726
CREATED:20250308T134104Z
LAST-MODIFIED:20251013T231156Z
UID:10000795-1903460400-1903467600@goodnewsdallas.org
SUMMARY:Mind Education
DESCRIPTION:
URL:https://goodnewsdallas.org/event/mind-education/2030-04-26/
LOCATION:Good News Dallas Church\, 1149 N Plano Rd\, Garland\, Texas\, 75042\, United States
CATEGORIES:Weekly Service
END:VEVENT
BEGIN:VEVENT
DTSTART;TZID=America/Chicago:20300503T190000
DTEND;TZID=America/Chicago:20300503T210000
DTSTAMP:20260423T030726
CREATED:20250308T134104Z
LAST-MODIFIED:20251013T231156Z
UID:10000796-1904065200-1904072400@goodnewsdallas.org
SUMMARY:Mind Education
DESCRIPTION:
URL:https://goodnewsdallas.org/event/mind-education/2030-05-03/
LOCATION:Good News Dallas Church\, 1149 N Plano Rd\, Garland\, Texas\, 75042\, United States
CATEGORIES:Weekly Service
END:VEVENT
BEGIN:VEVENT
DTSTART;TZID=America/Chicago:20300510T190000
DTEND;TZID=America/Chicago:20300510T210000
DTSTAMP:20260423T030726
CREATED:20250308T134104Z
LAST-MODIFIED:20251013T231156Z
UID:10000797-1904670000-1904677200@goodnewsdallas.org
SUMMARY:Mind Education
DESCRIPTION:
URL:https://goodnewsdallas.org/event/mind-education/2030-05-10/
LOCATION:Good News Dallas Church\, 1149 N Plano Rd\, Garland\, Texas\, 75042\, United States
CATEGORIES:Weekly Service
END:VEVENT
END:VCALENDAR